{"text_format":"1","workbook":"xlsx","n_sheets":10,"sheets":["メニュー","出場校データ","出場選手データ","女子団体申込様式","男子団体申込様式","女子個人申込様式","男子個人申込様式","開催県女子個人申込様式 ","開催県男子個人申込様式 ","委員長用"],"not_rendered":{"charts":0,"images":0,"macros":1,"external_links":0,"defined_names":7,"comments":0,"pivot_tables":0},"unopened":[],"bounds":{"document_bytes":16777216,"sheet_cells":100000,"rows_first":2000,"rows_last":500,"rows_between":2000,"halvings":0,"cell_chars":16384,"cell_head_chars":4096},"cells_cut":0,"cells_raw":0,"read":"whole","date_system":"1900"}

{"sheet":"メニュー","index":0,"n_rows":17,"n_cols":7,"rows_kept":17,"cut":false,"hidden":false,"merged":[[16,2,16,4],[12,2,12,12],[13,2,13,12],[6,2,6,12],[9,2,9,12],[10,2,10,12],[7,2,7,12],[8,2,8,12],[0,4,0,5],[0,6,0,13],[1,2,1,4],[1,5,1,12],[11,2,11,12],[0,1,0,2],[3,2,3,12],[4,2,4,12],[5,2,5,12]]}
[null,"令和",null,6,"年度",null,"監督入力ファイル"]
[null,null,null,null,null,"中国中学校柔道選手権大会"]
[]
[null,null,"①メニューにある年度を入力してください。（半角数字）"]
[null,null,"②出場校データの必要事項を入力してください。"]
[null,null,"③出場選手データの必要事項を入力してください。"]
[null,null,"④女子団体申込様式の選手番号を入力してください。"]
[null,null,"⑤男子団体申込様式の選手番号を入力してください。"]
[null,null,"⑥女子個人申込様式の選手番号を入力してください。"]
[null,null,"⑦男子個人申込様式の選手番号を入力してください。"]
[null,null,"⑧開催県は開催県女子個人申込様式の選手番号を入力してください。"]
[null,null,"⑨開催県は開催県男子個人申込様式の選手番号を入力してください。"]
[null,null,"⑥この「監督入力ファイル」を専門委員長にデータで提出してください。"]
[null,null,"⑦各種申込様式をプリントアウトし、押印後、委員長に送付してください。"]
[]
[]
[null,null,"委員長用シートへ"]

{"sheet":"出場校データ","index":1,"n_rows":43,"n_cols":6,"rows_kept":43,"cut":false,"hidden":false,"merged":[[40,0,42,0],[1,0,9,0],[10,0,17,0],[18,0,25,0],[26,0,32,0],[33,0,39,0]]}
[null,"入力項目","入力例","各学校（チーム）で入力\n（必要な項目のみ）",null,"メニューへ"]
["基本情報","県名","岡山県"]
[null,"学校（チーム）名","岡山市立東山中学校"]
[null,"学校（チーム）名（ふりがな）","おかやましりつひがしやまちゅうがっこう"]
[null,"学校長（代表者）氏名","岡山　太郎"]
[null,"学校（チーム）名：プログラム用　８文字まで\n例：岡山市立東山中学校　→　東山中学校","東山中学校"]
[null,"郵便番号（半角入力）","703-8295"]
[null,"住所（市区町村から）","岡山市中区御幸町13-3"]
[null,"学校（申込責任者）電話番号（半角入力）","086-272-2168"]
[null,"学校（申込責任者）FAX番号（半角入力）","086-272-2190"]
["男子団体","男子団体監督氏名","宮本　亜季"]
[null,"職","教員"]
[null,"自宅電話番号（半角入力）","086-XXXX-OOOO"]
[null,"携帯電話番号（半角入力）","090-XXXX-OOOO"]
[null,"男子団体コーチ氏名","大橋　優樹"]
[null,"職","教員"]
[null,"県順位（数字のみ半角入力）",2]
[null,"団体戦登録選手数",7]
["女子団体","女子団体監督氏名","宮本　亜希"]
[null,"職","教員"]
[null,"自宅電話番号（半角入力）","086-XXXX-OOOO"]
[null,"携帯電話番号（半角入力）","090-XXXX-OOOO"]
[null,"女子団体コーチ氏名","難波　吉三郎"]
[null,"職","教員"]
[null,"県順位（数字のみ半角入力）",3]
[null,"団体戦登録選手数",5]
["男子個人","男子個人監督氏名","宮本　亜季"]
[null,"職","教員"]
[null,"自宅電話番号（半角入力）","086-XXXX-OOOO"]
[null,"携帯電話番号（半角入力）","090-XXXX-OOOO"]
[null,"男子個人コーチ氏名","白石　和明"]
[null,"職","教員"]
[null,"個人戦のみの出場者数",2]
["女子個人","女子個人監督氏名","宮本　亜季"]
[null,"職","教員"]
[null,"自宅電話番号（半角入力）","086-XXXX-OOOO"]
[null,"携帯電話番号（半角入力）","090-XXXX-OOOO"]
[null,"女子個人コーチ氏名","今岡　裕生"]
[null,"職","教員"]
[null,"個人戦のみの出場者数",3]
["申込書記載日","記載　年（数字のみ半角入力）",6]
[null,"記載　月（数字のみ半角入力）",7]
[null,"記載　日（数字のみ半角入力）",23]

{"sheet":"出場選手データ","index":2,"n_rows":32,"n_cols":9,"rows_kept":32,"cut":false,"hidden":false,"merged":[]}
["選手番号","氏　名\n（氏、名の間は一文字空ける）","しめい\n（し、めいの間は一文字空ける）","学年\n（数字のみ半角入力）","体重　\n（小数第1位まで半角入力）","段位\n（リストから）","団体戦・個人戦\nともに出場\n（リストから）",null,"メニューへ"]
["入力例","石田　崇","いしだ　たかし",3,83,"初","〇"]
[1]
[2]
[3]
[4]
[5]
[6]
[7]
[8]
[9]
[10]
[11]
[12]
[13]
[14]
[15]
[16]
[17]
[18]
[19]
[20]
[21]
[22]
[23]
[24]
[25]
[26]
[27]
[28]
[29]
[30]

{"sheet":"女子団体申込様式","index":3,"n_rows":37,"n_cols":13,"rows_kept":37,"cut":false,"hidden":false,"merged":[[3,4,3,5],[12,5,13,5],[10,5,10,7],[7,5,7,7],[8,5,8,7],[9,5,9,7],[5,6,5,12],[3,9,4,9],[3,10,4,12],[3,6,3,8],[8,9,8,12],[9,9,9,12],[12,4,13,4],[5,4,5,5],[6,7,6,12],[4,4,4,5],[24,6,24,9],[25,11,26,11],[23,5,24,5],[34,11,34,12],[15,5,16,5],[17,5,18,5],[19,5,20,5],[21,5,22,5],[25,12,26,12],[26,6,26,9],[25,6,25,9],[18,6,18,9],[17,6,17,9],[16,6,16,9],[15,6,15,9],[19,6,19,9],[25,5,26,5],[35,11,35,12],[36,9,36,10],[36,11,36,12],[34,4,34,6],[34,9,34,10],[35,9,35,10],[0,4,0,5],[28,4,28,12],[29,4,29,12],[30,4,30,12],[32,4,32,12],[4,6,4,8],[1,10,1,12],[10,9,10,12],[7,9,7,12],[15,12,16,12],[15,11,16,11],[15,10,16,10],[20,6,20,9],[21,6,21,9],[22,6,22,9],[23,6,23,9],[14,0,16,1],[23,1,24,1],[17,0,18,0],[19,0,20,0],[21,0,22,0],[23,0,24,0],[17,4,18,4],[19,4,20,4],[21,4,22,4],[25,0,26,0],[17,1,18,1],[19,1,20,1],[21,1,22,1],[23,4,24,4],[25,4,26,4],[2,7,2,9],[25,1,26,1],[17,10,18,10],[17,11,18,11],[17,12,18,12],[19,10,20,10],[19,11,20,11],[19,12,20,12],[21,10,22,10],[21,11,22,11],[21,12,22,12],[23,10,24,10],[23,11,24,11],[23,12,24,12],[25,10,26,10],[15,4,16,4]]}
[null,null,null,null,"記載日",null,"令和",{"$f":"出場校データ!D41","v":0},"年",{"$f":"出場校データ!D42","v":0},"月",{"$f":"出場校データ!D43","v":0},"日"]
[null,null,null,null,null,null,null,null,null,null,{"$f":"CONCATENATE(G1,\"　\",H1,I1,\"　\",J1,K1,\"　\",L1,M1)","v":"令和　0年　0月　0日"}]
["メニューへ",null,null,null,"第",{"$f":"メニュー!D1+34","v":40},"回　",{"$f":"メニュー!F2","v":"中国中学校柔道選手権大会"},null,null,"申込書","女子","団体"]
[null,null,null,null,"ふりがな",null,{"$f":"出場校データ!D4","v":0},null,null,"学校長\n（代表者）氏名",{"$f":"出場校データ!D5","v":0}]
[null,null,null,null,"学校（チーム）名",null,{"$f":"出場校データ!D3","v":0}]
[null,null,null,null,"プログラム用\n（8文字まで）",null,{"$f":"出場校データ!D6","v":0}]
[null,null,null,null,"住所","〒",{"$f":"出場校データ!D7","v":0},{"$f":"CONCATENATE(出場校データ!D2,出場校データ!D8)","v":""}]
[null,null,null,null,"TEL",{"$f":"出場校データ!D9","v":0},null,null,"FAX",{"$f":"出場校データ!D10","v":0}]
[null,null,null,null,"監督氏名",{"$f":"出場校データ!D19","v":0},null,null,"職",{"$f":"出場校データ!D20","v":0}]
[null,null,null,null,"自宅TEL",{"$f":"出場校データ!D21","v":0},null,null,"携帯",{"$f":"出場校データ!D22","v":0}]
[null,null,null,null,"コーチ氏名",{"$f":"出場校データ!D23","v":0},null,null,"職",{"$f":"出場校データ!D24","v":0}]
[]
[null,null,null,null,"県順位：",{"$f":"出場校データ!D25","v":0}]
[]
["出場選手データの選手番号を入力してください。\n入力事項がない場合は、100を入力してください。"]
[null,null,null,null,"順位","個人戦出場","ふりがな",null,null,null,"学年","体重","段位"]
[null,null,null,null,null,null,"氏　名"]
["先鋒",1,null,null,"先鋒",{"$f":"VLOOKUP(B18,出場選手データ!$1:$1048576,7)","v":0},{"$f":"VLOOKUP(B18,出場選手データ!$1:$1048576,3)","v":0},null,null,null,{"$f":"VLOOKUP(B18,出場選手データ!$1:$1048576,4)","v":0},{"$f":"VLOOKUP(B18,出場選手データ!$1:$1048576,5)","v":0},{"$f":"VLOOKUP(B18,出場選手データ!$1:$1048576,6)","v":0}]
[null,null,null,null,null,null,{"$f":"VLOOKUP(B18,出場選手データ!$1:$1048576,2)","v":0}]
["中堅",100,null,null,"中堅",{"$f":"VLOOKUP(B20,出場選手データ!$1:$1048576,7)","v":0},{"$f":"VLOOKUP(B20,出場選手データ!$1:$1048576,3)","v":0},null,null,null,{"$f":"VLOOKUP(B20,出場選手データ!$1:$1048576,4)","v":0},{"$f":"VLOOKUP(B20,出場選手データ!$1:$1048576,5)","v":0},{"$f":"VLOOKUP(B20,出場選手データ!$1:$1048576,6)","v":0}]
[null,null,null,null,null,null,{"$f":"VLOOKUP(B20,出場選手データ!$1:$1048576,2)","v":0}]
["大将",100,null,null,"大将",{"$f":"VLOOKUP(B22,出場選手データ!$1:$1048576,7)","v":0},{"$f":"VLOOKUP(B22,出場選手データ!$1:$1048576,3)","v":0},null,null,null,{"$f":"VLOOKUP(B22,出場選手データ!$1:$1048576,4)","v":0},{"$f":"VLOOKUP(B22,出場選手データ!$1:$1048576,5)","v":0},{"$f":"VLOOKUP(B22,出場選手データ!$1:$1048576,6)","v":0}]
[null,null,null,null,null,null,{"$f":"VLOOKUP(B22,出場選手データ!$1:$1048576,2)","v":0}]
["選手１",100,null,null,"選手１",{"$f":"VLOOKUP(B24,出場選手データ!$1:$1048576,7)","v":0},{"$f":"VLOOKUP(B24,出場選手データ!$1:$1048576,3)","v":0},null,null,null,{"$f":"VLOOKUP(B24,出場選手データ!$1:$1048576,4)","v":0},{"$f":"VLOOKUP(B24,出場選手データ!$1:$1048576,5)","v":0},{"$f":"VLOOKUP(B24,出場選手データ!$1:$1048576,6)","v":0}]
[null,null,null,null,null,null,{"$f":"VLOOKUP(B24,出場選手データ!$1:$1048576,2)","v":0}]
["選手２",100,null,null,"選手２",{"$f":"VLOOKUP(B26,出場選手データ!$1:$1048576,7)","v":0},{"$f":"VLOOKUP(B26,出場選手データ!$1:$1048576,3)","v":0},null,null,null,{"$f":"VLOOKUP(B26,出場選手データ!$1:$1048576,4)","v":0},{"$f":"VLOOKUP(B26,出場選手データ!$1:$1048576,5)","v":0},{"$f":"VLOOKUP(B26,出場選手データ!$1:$1048576,6)","v":0}]
[null,null,null,null,null,null,{"$f":"VLOOKUP(B26,出場選手データ!$1:$1048576,2)","v":0}]
[]
[]
[]
[]
[]
[null,null,null,null,"※上記の生徒は、本競技大会参加申込に際し、大会要項に記載の内容を確認し、同意を得ています。"]
[]
[null,null,null,null,"〈大会負担金〉女子団体",null,null,{"$f":"出場校データ!D2","v":0},null,{"$f":"G6","v":0},null,"中学校（チーム）"]
[null,null,null,null,null,null,null,null,null,"団体登録選手（名）",null,"大会負担金合計"]
[null,null,null,null,null,null,null,null,null,{"$f":"出場校データ!D26","v":0},null,{"$f":"J37*2000","v":0}]

{"sheet":"男子団体申込様式","index":4,"n_rows":41,"n_cols":13,"rows_kept":41,"cut":false,"hidden":false,"merged":[[17,0,18,0],[19,0,20,0],[21,0,22,0],[23,0,24,0],[25,0,26,0],[27,0,28,0],[29,0,30,0],[14,0,16,1],[15,6,15,9],[16,6,16,9],[17,6,17,9],[18,6,18,9],[19,6,19,9],[20,6,20,9],[21,6,21,9],[22,6,22,9],[23,6,23,9],[27,4,28,4],[27,5,28,5],[29,4,30,4],[29,5,30,5],[27,6,27,9],[28,6,28,9],[29,6,29,9],[39,9,39,10],[39,11,39,12],[40,9,40,10],[40,11,40,12],[33,4,33,12],[34,4,34,12],[36,4,36,12],[38,4,38,6],[38,9,38,10],[38,11,38,12],[5,4,5,5],[5,6,5,12],[7,5,7,7],[7,9,7,12],[9,5,9,7],[9,9,9,12],[10,5,10,7],[10,9,10,12],[12,4,13,4],[12,5,13,5],[6,7,6,12],[8,5,8,7],[8,9,8,12],[0,4,0,5],[1,10,1,12],[3,4,3,5],[3,6,3,8],[3,9,4,9],[3,10,4,12],[4,4,4,5],[4,6,4,8],[2,7,2,9],[15,12,16,12],[17,4,18,4],[17,5,18,5],[15,4,16,4],[15,5,16,5],[17,10,18,10],[17,11,18,11],[15,10,16,10],[25,1,26,1],[15,11,16,11],[27,1,28,1],[29,1,30,1],[25,10,26,10],[25,11,26,11],[17,1,18,1],[19,1,20,1],[21,1,22,1],[23,1,24,1],[19,10,20,10],[19,11,20,11],[21,10,22,10],[21,11,22,11],[23,10,24,10],[23,11,24,11],[30,6,30,9],[23,4,24,4],[23,5,24,5],[25,4,26,4],[25,5,26,5],[24,6,24,9],[25,6,25,9],[26,6,26,9],[19,4,20,4],[32,4,32,12],[25,12,26,12],[27,10,28,10],[27,11,28,11],[27,12,28,12],[29,10,30,10],[29,11,30,11],[29,12,30,12],[17,12,18,12],[19,12,20,12],[21,12,22,12],[23,12,24,12],[19,5,20,5],[21,4,22,4],[21,5,22,5]]}
[null,null,null,null,"記載日",null,"令和",{"$f":"出場校データ!D41","v":0},"年",{"$f":"出場校データ!D42","v":0},"月",{"$f":"出場校データ!D43","v":0},"日"]
[null,null,null,null,null,null,null,null,null,null,{"$f":"CONCATENATE(G1,\"　\",H1,I1,\"　\",J1,K1,\"　\",L1,M1)","v":"令和　0年　0月　0日"}]
["メニューへ",null,null,null,"第",{"$f":"メニュー!D1+34","v":40},"回　",{"$f":"メニュー!F2","v":"中国中学校柔道選手権大会"},null,null,"申込書","男子","団体"]
[null,null,null,null,"ふりがな",null,{"$f":"出場校データ!D4","v":0},null,null,"学校長\n（代表者）氏名",{"$f":"出場校データ!D5","v":0}]
[null,null,null,null,"学校（チーム）名",null,{"$f":"出場校データ!D3","v":0}]
[null,null,null,null,"プログラム用\n（8文字まで）",null,{"$f":"出場校データ!D6","v":0}]
[null,null,null,null,"住所","〒",{"$f":"出場校データ!D7","v":0},{"$f":"CONCATENATE(出場校データ!D2,出場校データ!D8)","v":""}]
[null,null,null,null,"TEL",{"$f":"出場校データ!D9","v":0},null,null,"FAX",{"$f":"出場校データ!D10","v":0}]
[null,null,null,null,"監督氏名",{"$f":"出場校データ!D11","v":0},null,null,"職",{"$f":"出場校データ!D12","v":0}]
[null,null,null,null,"自宅TEL",{"$f":"出場校データ!D13","v":0},null,null,"携帯",{"$f":"出場校データ!D14","v":0}]
[null,null,null,null,"コーチ氏名",{"$f":"出場校データ!D15","v":0},null,null,"職",{"$f":"出場校データ!D16","v":0}]
[]
[null,null,null,null,"県順位：",{"$f":"出場校データ!D17","v":0}]
[]
["出場選手データの選手番号を入力してください。\n入力事項がない場合は、100を入力してください。"]
[null,null,null,null,"順位","個人戦出場","ふりがな",null,null,null,"学年","体重","段位"]
[null,null,null,null,null,null,"氏　名"]
["先鋒",1,null,null,"先鋒",{"$f":"VLOOKUP(B18,出場選手データ!$1:$1048576,7)","v":0},{"$f":"VLOOKUP(B18,出場選手データ!$1:$1048576,3)","v":0},null,null,null,{"$f":"VLOOKUP(B18,出場選手データ!$1:$1048576,4)","v":0},{"$f":"VLOOKUP(B18,出場選手データ!$1:$1048576,5)","v":0},{"$f":"VLOOKUP(B18,出場選手データ!$1:$1048576,6)","v":0}]
[null,null,null,null,null,null,{"$f":"VLOOKUP(B18,出場選手データ!$1:$1048576,2)","v":0}]
["次鋒",1,null,null,"次鋒",{"$f":"VLOOKUP(B20,出場選手データ!$1:$1048576,7)","v":0},{"$f":"VLOOKUP(B20,出場選手データ!$1:$1048576,3)","v":0},null,null,null,{"$f":"VLOOKUP(B20,出場選手データ!$1:$1048576,4)","v":0},{"$f":"VLOOKUP(B20,出場選手データ!$1:$1048576,5)","v":0},{"$f":"VLOOKUP(B20,出場選手データ!$1:$1048576,6)","v":0}]
[null,null,null,null,null,null,{"$f":"VLOOKUP(B20,出場選手データ!$1:$1048576,2)","v":0}]
["中堅",100,null,null,"中堅",{"$f":"VLOOKUP(B22,出場選手データ!$1:$1048576,7)","v":0},{"$f":"VLOOKUP(B22,出場選手データ!$1:$1048576,3)","v":0},null,null,null,{"$f":"VLOOKUP(B22,出場選手データ!$1:$1048576,4)","v":0},{"$f":"VLOOKUP(B22,出場選手データ!$1:$1048576,5)","v":0},{"$f":"VLOOKUP(B22,出場選手データ!$1:$1048576,6)","v":0}]
[null,null,null,null,null,null,{"$f":"VLOOKUP(B22,出場選手データ!$1:$1048576,2)","v":0}]
["副将",2,null,null,"副将",{"$f":"VLOOKUP(B24,出場選手データ!$1:$1048576,7)","v":0},{"$f":"VLOOKUP(B24,出場選手データ!$1:$1048576,3)","v":0},null,null,null,{"$f":"VLOOKUP(B24,出場選手データ!$1:$1048576,4)","v":0},{"$f":"VLOOKUP(B24,出場選手データ!$1:$1048576,5)","v":0},{"$f":"VLOOKUP(B24,出場選手データ!$1:$1048576,6)","v":0}]
[null,null,null,null,null,null,{"$f":"VLOOKUP(B24,出場選手データ!$1:$1048576,2)","v":0}]
["大将",1,null,null,"大将",{"$f":"VLOOKUP(B26,出場選手データ!$1:$1048576,7)","v":0},{"$f":"VLOOKUP(B26,出場選手データ!$1:$1048576,3)","v":0},null,null,null,{"$f":"VLOOKUP(B26,出場選手データ!$1:$1048576,4)","v":0},{"$f":"VLOOKUP(B26,出場選手データ!$1:$1048576,5)","v":0},{"$f":"VLOOKUP(B26,出場選手データ!$1:$1048576,6)","v":0}]
[null,null,null,null,null,null,{"$f":"VLOOKUP(B26,出場選手データ!$1:$1048576,2)","v":0}]
["選手１",100,null,null,"選手１",{"$f":"VLOOKUP(B28,出場選手データ!$1:$1048576,7)","v":0},{"$f":"VLOOKUP(B28,出場選手データ!$1:$1048576,3)","v":0},null,null,null,{"$f":"VLOOKUP(B28,出場選手データ!$1:$1048576,4)","v":0},{"$f":"VLOOKUP(B28,出場選手データ!$1:$1048576,5)","v":0},{"$f":"VLOOKUP(B28,出場選手データ!$1:$1048576,6)","v":0}]
[null,null,null,null,null,null,{"$f":"VLOOKUP(B28,出場選手データ!$1:$1048576,2)","v":0}]
["選手２",100,null,null,"選手２",{"$f":"VLOOKUP(B30,出場選手データ!$1:$1048576,7)","v":0},{"$f":"VLOOKUP(B30,出場選手データ!$1:$1048576,3)","v":0},null,null,null,{"$f":"VLOOKUP(B30,出場選手データ!$1:$1048576,4)","v":0},{"$f":"VLOOKUP(B30,出場選手データ!$1:$1048576,5)","v":0},{"$f":"VLOOKUP(B30,出場選手データ!$1:$1048576,6)","v":0}]
[null,null,null,null,null,null,{"$f":"VLOOKUP(B30,出場選手データ!$1:$1048576,2)","v":0}]
[]
[]
[]
[]
[]
[null,null,null,null,"※上記の生徒は、本競技大会参加申込に際し、大会要項に記載の内容を確認し、同意を得ています。"]
[]
[null,null,null,null,"〈大会負担金〉男子団体",null,null,{"$f":"出場校データ!D2","v":0},null,{"$f":"G6","v":0},null,"中学校（チーム）"]
[null,null,null,null,null,null,null,null,null,"団体登録選手（名）",null,"大会負担金合計"]
[null,null,null,null,null,null,null,null,null,{"$f":"出場校データ!D18","v":0},null,{"$f":"J41*2000","v":0}]

{"sheet":"女子個人申込様式","index":5,"n_rows":55,"n_cols":14,"rows_kept":55,"cut":false,"hidden":false,"merged":[[42,0,45,0],[42,1,43,1],[44,1,45,1],[9,0,13,2],[42,7,42,10],[43,7,43,10],[44,7,44,10],[45,7,45,10],[14,0,17,0],[14,1,15,1],[16,1,17,1],[18,0,21,0],[18,1,19,1],[20,1,21,1],[22,0,25,0],[22,1,23,1],[24,1,25,1],[26,0,29,0],[26,1,27,1],[28,1,29,1],[30,0,33,0],[30,1,31,1],[32,1,33,1],[38,0,41,0],[40,1,41,1],[27,7,27,10],[28,7,28,10],[29,7,29,10],[30,7,30,10],[31,7,31,10],[32,7,32,10],[34,0,37,0],[34,1,35,1],[36,1,37,1],[38,6,39,6],[40,6,41,6],[38,1,39,1],[33,7,33,10],[34,7,34,10],[35,7,35,10],[36,7,36,10],[37,7,37,10],[38,7,38,10],[39,7,39,10],[40,7,40,10],[32,2,33,2],[34,2,35,2],[36,2,37,2],[0,5,0,6],[1,11,1,13],[3,5,3,6],[3,7,3,9],[3,10,4,10],[4,5,4,6],[4,7,4,9],[2,8,2,10],[3,11,4,12],[3,13,4,13],[9,6,9,8],[9,10,9,13],[10,6,10,8],[10,10,10,13],[5,5,5,6],[5,7,5,13],[7,6,7,8],[7,10,7,13],[8,6,8,8],[8,10,8,13],[6,8,6,13],[12,13,13,13],[14,5,17,5],[14,6,15,6],[16,6,17,6],[12,5,13,5],[12,6,13,6],[12,11,13,11],[12,12,13,12],[14,12,15,12],[14,13,15,13],[16,12,17,12],[16,13,17,13],[15,7,15,10],[14,7,14,10],[13,7,13,10],[14,11,15,11],[16,11,17,11],[12,7,12,10],[16,7,16,10],[17,7,17,10],[18,7,18,10],[19,7,19,10],[20,7,20,10],[21,7,21,10],[22,7,22,10],[23,7,23,10],[24,7,24,10],[25,7,25,10],[26,7,26,10],[38,2,39,2],[40,2,41,2],[42,2,43,2],[44,2,45,2],[22,5,25,5],[22,6,23,6],[14,2,15,2],[16,2,17,2],[18,2,19,2],[20,2,21,2],[22,2,23,2],[24,2,25,2],[26,2,27,2],[28,2,29,2],[30,2,31,2],[18,5,21,5],[18,6,19,6],[24,6,25,6],[20,6,21,6],[30,5,33,5],[30,6,31,6],[32,6,33,6],[26,5,29,5],[26,6,27,6],[26,12,27,12],[26,13,27,13],[28,11,29,11],[28,12,29,12],[28,13,29,13],[30,11,31,11],[30,12,31,12],[30,13,31,13],[44,6,45,6],[42,12,43,12],[41,7,41,10],[40,12,41,12],[40,13,41,13],[26,11,27,11],[28,6,29,6],[18,12,19,12],[18,13,19,13],[20,11,21,11],[20,12,21,12],[20,13,21,13],[22,11,23,11],[22,12,23,12],[22,13,23,13],[24,11,25,11],[24,12,25,12],[24,13,25,13],[18,11,19,11],[50,5,50,13],[52,5,52,7],[52,10,52,11],[53,10,53,11],[34,11,35,11],[42,11,43,11],[34,5,37,5],[34,6,35,6],[36,6,37,6],[53,12,53,13],[52,12,52,13],[54,10,54,11],[54,12,54,13],[47,5,47,13],[42,5,45,5],[42,6,43,6],[38,5,41,5],[32,11,33,11],[32,12,33,12],[32,13,33,13],[42,13,43,13],[44,11,45,11],[44,12,45,12],[44,13,45,13],[53,7,54,9],[34,12,35,12],[34,13,35,13],[36,11,37,11],[36,12,37,12],[36,13,37,13],[38,11,39,11],[38,12,39,12],[38,13,39,13],[40,11,41,11],[48,5,48,13]]}
[null,null,null,null,null,"記載日",null,"令和",{"$f":"出場校データ!D41","v":0},"年",{"$f":"出場校データ!D42","v":0},"月",{"$f":"出場校データ!D43","v":0},"日"]
["メニューへ",null,null,null,null,null,null,null,null,null,null,{"$f":"CONCATENATE(H1,\"　\",I1,J1,\"　\",K1,L1,\"　\",M1,N1)","v":"令和　0年　0月　0日"}]
[null,null,null,null,null,"第",{"$f":"メニュー!D1+34","v":40},"回",{"$f":"メニュー!F2","v":"中国中学校柔道選手権大会"},null,null,"申込書","女子","個人"]
[null,null,null,null,null,"ふりがな",null,{"$f":"出場校データ!D4","v":0},null,null,"学校長\n（代表者）\n氏名",{"$f":"出場校データ!D5","v":0}]
[null,null,null,null,null,"学校（チーム）名",null,{"$f":"出場校データ!D3","v":0}]
[null,null,null,null,null,"プログラム用（8文字まで）",null,{"$f":"出場校データ!D6","v":0}]
[null,null,null,null,null,"住所","〒",{"$f":"出場校データ!D7","v":0},{"$f":"CONCATENATE(出場校データ!D2,出場校データ!D8)","v":""}]
[null,null,null,null,null,"TEL",{"$f":"出場校データ!D9","v":0},null,null,"FAX",{"$f":"出場校データ!D10","v":0}]
[null,null,null,null,null,"監督氏名",{"$f":"出場校データ!D34","v":0},null,null,"職",{"$f":"出場校データ!D35","v":0}]
["出場選手データの選手番号を入力してください。\n入力事項がない場合は、100を入力してください。",null,null,null,null,"自宅TEL",{"$f":"出場校データ!D36","v":0},null,null,"携帯",{"$f":"出場校データ!D37","v":0}]
[null,null,null,null,null,"コーチ氏名",{"$f":"出場校データ!D38","v":0},null,null,"職",{"$f":"出場校データ!D39","v":0}]
[]
[null,null,null,null,null,"区分","順位","ふりがな",null,null,null,"学年","体重","段位"]
[null,null,null,null,null,null,null,"氏　名"]
[40,"１位",1,null,null,40,"１位",{"$f":"VLOOKUP(C15,出場選手データ!$1:$1048576,3)","v":0},null,null,null,{"$f":"VLOOKUP(C15,出場選手データ!$1:$1048576,4)","v":0},{"$f":"VLOOKUP(C15,出場選手データ!$1:$1048576,5)","v":0},{"$f":"VLOOKUP(C15,出場選手データ!$1:$1048576,6)","v":0}]
[null,null,null,null,null,null,null,{"$f":"VLOOKUP(C15,出場選手データ!$1:$1048576,2)","v":0}]
[null,"２位",100,null,null,null,"２位",{"$f":"VLOOKUP(C17,出場選手データ!$1:$1048576,3)","v":0},null,null,null,{"$f":"VLOOKUP(C17,出場選手データ!$1:$1048576,4)","v":0},{"$f":"VLOOKUP(C17,出場選手データ!$1:$1048576,5)","v":0},{"$f":"VLOOKUP(C17,出場選手データ!$1:$1048576,6)","v":0}]
[null,null,null,null,null,null,null,{"$f":"VLOOKUP(C17,出場選手データ!$1:$1048576,2)","v":0}]
[44,"１位",1,null,null,44,"１位",{"$f":"VLOOKUP(C19,出場選手データ!$1:$1048576,3)","v":0},null,null,null,{"$f":"VLOOKUP(C19,出場選手データ!$1:$1048576,4)","v":0},{"$f":"VLOOKUP(C19,出場選手データ!$1:$1048576,5)","v":0},{"$f":"VLOOKUP(C19,出場選手データ!$1:$1048576,6)","v":0}]
[null,null,null,null,null,null,null,{"$f":"VLOOKUP(C19,出場選手データ!$1:$1048576,2)","v":0}]
[null,"２位",100,null,null,null,"２位",{"$f":"VLOOKUP(C21,出場選手データ!$1:$1048576,3)","v":0},null,null,null,{"$f":"VLOOKUP(C21,出場選手データ!$1:$1048576,4)","v":0},{"$f":"VLOOKUP(C21,出場選手データ!$1:$1048576,5)","v":0},{"$f":"VLOOKUP(C21,出場選手データ!$1:$1048576,6)","v":0}]
[null,null,null,null,null,null,null,{"$f":"VLOOKUP(C21,出場選手データ!$1:$1048576,2)","v":0}]
[48,"１位",100,null,null,48,"１位",{"$f":"VLOOKUP(C23,出場選手データ!$1:$1048576,3)","v":0},null,null,null,{"$f":"VLOOKUP(C23,出場選手データ!$1:$1048576,4)","v":0},{"$f":"VLOOKUP(C23,出場選手データ!$1:$1048576,5)","v":0},{"$f":"VLOOKUP(C23,出場選手データ!$1:$1048576,6)","v":0}]
[null,null,null,null,null,null,null,{"$f":"VLOOKUP(C23,出場選手データ!$1:$1048576,2)","v":0}]
[null,"２位",100,null,null,null,"２位",{"$f":"VLOOKUP(C25,出場選手データ!$1:$1048576,3)","v":0},null,null,null,{"$f":"VLOOKUP(C25,出場選手データ!$1:$1048576,4)","v":0},{"$f":"VLOOKUP(C25,出場選手データ!$1:$1048576,5)","v":0},{"$f":"VLOOKUP(C25,出場選手データ!$1:$1048576,6)","v":0}]
[null,null,null,null,null,null,null,{"$f":"VLOOKUP(C25,出場選手データ!$1:$1048576,2)","v":0}]
[52,"１位",100,null,null,52,"１位",{"$f":"VLOOKUP(C27,出場選手データ!$1:$1048576,3)","v":0},null,null,null,{"$f":"VLOOKUP(C27,出場選手データ!$1:$1048576,4)","v":0},{"$f":"VLOOKUP(C27,出場選手データ!$1:$1048576,5)","v":0},{"$f":"VLOOKUP(C27,出場選手データ!$1:$1048576,6)","v":0}]
[null,null,null,null,null,null,null,{"$f":"VLOOKUP(C27,出場選手データ!$1:$1048576,2)","v":0}]
[null,"２位",100,null,null,null,"２位",{"$f":"VLOOKUP(C29,出場選手データ!$1:$1048576,3)","v":0},null,null,null,{"$f":"VLOOKUP(C29,出場選手データ!$1:$1048576,4)","v":0},{"$f":"VLOOKUP(C29,出場選手データ!$1:$1048576,5)","v":0},{"$f":"VLOOKUP(C29,出場選手データ!$1:$1048576,6)","v":0}]
[null,null,null,null,null,null,null,{"$f":"VLOOKUP(C29,出場選手データ!$1:$1048576,2)","v":0}]
[57,"１位",100,null,null,57,"１位",{"$f":"VLOOKUP(C31,出場選手データ!$1:$1048576,3)","v":0},null,null,null,{"$f":"VLOOKUP(C31,出場選手データ!$1:$1048576,4)","v":0},{"$f":"VLOOKUP(C31,出場選手データ!$1:$1048576,5)","v":0},{"$f":"VLOOKUP(C31,出場選手データ!$1:$1048576,6)","v":0}]
[null,null,null,null,null,null,null,{"$f":"VLOOKUP(C31,出場選手データ!$1:$1048576,2)","v":0}]
[null,"２位",2,null,null,null,"２位",{"$f":"VLOOKUP(C33,出場選手データ!$1:$1048576,3)","v":0},null,null,null,{"$f":"VLOOKUP(C33,出場選手データ!$1:$1048576,4)","v":0},{"$f":"VLOOKUP(C33,出場選手データ!$1:$1048576,5)","v":0},{"$f":"VLOOKUP(C33,出場選手データ!$1:$1048576,6)","v":0}]
[null,null,null,null,null,null,null,{"$f":"VLOOKUP(C33,出場選手データ!$1:$1048576,2)","v":0}]
[63,"１位",100,null,null,63,"１位",{"$f":"VLOOKUP(C35,出場選手データ!$1:$1048576,3)","v":0},null,null,null,{"$f":"VLOOKUP(C35,出場選手データ!$1:$1048576,4)","v":0},{"$f":"VLOOKUP(C35,出場選手データ!$1:$1048576,5)","v":0},{"$f":"VLOOKUP(C35,出場選手データ!$1:$1048576,6)","v":0}]
[null,null,null,null,null,null,null,{"$f":"VLOOKUP(C35,出場選手データ!$1:$1048576,2)","v":0}]
[null,"２位",100,null,null,null,"２位",{"$f":"VLOOKUP(C37,出場選手データ!$1:$1048576,3)","v":0},null,null,null,{"$f":"VLOOKUP(C37,出場選手データ!$1:$1048576,4)","v":0},{"$f":"VLOOKUP(C37,出場選手データ!$1:$1048576,5)","v":0},{"$f":"VLOOKUP(C37,出場選手データ!$1:$1048576,6)","v":0}]
[null,null,null,null,null,null,null,{"$f":"VLOOKUP(C37,出場選手データ!$1:$1048576,2)","v":0}]
[70,"１位",100,null,null,70,"１位",{"$f":"VLOOKUP(C39,出場選手データ!$1:$1048576,3)","v":0},null,null,null,{"$f":"VLOOKUP(C39,出場選手データ!$1:$1048576,4)","v":0},{"$f":"VLOOKUP(C39,出場選手データ!$1:$1048576,5)","v":0},{"$f":"VLOOKUP(C39,出場選手データ!$1:$1048576,6)","v":0}]
[null,null,null,null,null,null,null,{"$f":"VLOOKUP(C39,出場選手データ!$1:$1048576,2)","v":0}]
[null,"２位",100,null,null,null,"２位",{"$f":"VLOOKUP(C41,出場選手データ!$1:$1048576,3)","v":0},null,null,null,{"$f":"VLOOKUP(C41,出場選手データ!$1:$1048576,4)","v":0},{"$f":"VLOOKUP(C41,出場選手データ!$1:$1048576,5)","v":0},{"$f":"VLOOKUP(C41,出場選手データ!$1:$1048576,6)","v":0}]
[null,null,null,null,null,null,null,{"$f":"VLOOKUP(C41,出場選手データ!$1:$1048576,2)","v":0}]
["70㎏超級","１位",100,null,null,"70㎏超級","１位",{"$f":"VLOOKUP(C43,出場選手データ!$1:$1048576,3)","v":0},null,null,null,{"$f":"VLOOKUP(C43,出場選手データ!$1:$1048576,4)","v":0},{"$f":"VLOOKUP(C43,出場選手データ!$1:$1048576,5)","v":0},{"$f":"VLOOKUP(C43,出場選手データ!$1:$1048576,6)","v":0}]
[null,null,null,null,null,null,null,{"$f":"VLOOKUP(C43,出場選手データ!$1:$1048576,2)","v":0}]
[null,"２位",100,null,null,null,"２位",{"$f":"VLOOKUP(C45,出場選手データ!$1:$1048576,3)","v":0},null,null,null,{"$f":"VLOOKUP(C45,出場選手データ!$1:$1048576,4)","v":0},{"$f":"VLOOKUP(C45,出場選手データ!$1:$1048576,5)","v":0},{"$f":"VLOOKUP(C45,出場選手データ!$1:$1048576,6)","v":0}]
[null,null,null,null,null,null,null,{"$f":"VLOOKUP(C45,出場選手データ!$1:$1048576,2)","v":0}]
[]
[]
[]
[]
[null,null,null,null,null,"※上記の生徒は、本競技大会参加申込に際し、大会要項に記載の内容を確認し、同意を得ています。"]
[]
[null,null,null,null,null,"〈大会負担金〉女子個人",null,null,{"$f":"出場校データ!D2","v":0},null,{"$f":"H6","v":0},null,"中学校（チーム）"]
[null,null,null,null,null,null,null,"女子個人戦だけに出場する選手のみ記入",null,null,"個人出場選手（名）",null,"大会負担金合計"]
[null,null,null,null,null,null,null,null,null,null,{"$f":"出場校データ!D40","v":0},null,{"$f":"K55*2000","v":0}]

{"sheet":"男子個人申込様式","index":6,"n_rows":55,"n_cols":14,"rows_kept":55,"cut":false,"hidden":false,"merged":[[9,0,13,2],[45,7,45,10],[14,0,17,0],[14,1,15,1],[16,1,17,1],[18,0,21,0],[18,1,19,1],[20,1,21,1],[22,0,25,0],[22,1,23,1],[24,1,25,1],[26,0,29,0],[26,1,27,1],[28,1,29,1],[30,0,33,0],[30,1,31,1],[32,1,33,1],[34,0,37,0],[34,1,35,1],[36,1,37,1],[24,2,25,2],[26,2,27,2],[28,2,29,2],[30,2,31,2],[18,5,21,5],[18,6,19,6],[20,6,21,6],[26,5,29,5],[26,6,27,6],[28,6,29,6],[30,6,31,6],[30,5,33,5],[32,2,33,2],[34,7,34,10],[35,7,35,10],[19,7,19,10],[20,7,20,10],[21,7,21,10],[22,7,22,10],[23,7,23,10],[24,7,24,10],[25,7,25,10],[26,7,26,10],[27,7,27,10],[33,7,33,10],[32,7,32,10],[42,0,45,0],[42,1,43,1],[36,7,36,10],[37,7,37,10],[38,7,38,10],[39,7,39,10],[40,7,40,10],[41,7,41,10],[42,7,42,10],[43,7,43,10],[44,7,44,10],[42,5,45,5],[42,6,43,6],[44,6,45,6],[44,1,45,1],[38,0,41,0],[38,1,39,1],[40,1,41,1],[12,5,13,5],[12,6,13,6],[14,5,17,5],[16,6,17,6],[14,7,14,10],[13,7,13,10],[12,7,12,10],[9,6,9,8],[9,10,9,13],[10,6,10,8],[10,10,10,13],[12,13,13,13],[12,11,13,11],[12,12,13,12],[14,12,15,12],[14,13,15,13],[16,12,17,12],[16,13,17,13],[15,7,15,10],[16,7,16,10],[17,7,17,10],[8,6,8,8],[8,10,8,13],[0,5,0,6],[1,11,1,13],[3,5,3,6],[3,7,3,9],[3,10,4,10],[4,5,4,6],[4,7,4,9],[5,5,5,6],[5,7,5,13],[7,6,7,8],[7,10,7,13],[6,8,6,13],[2,8,2,10],[3,11,4,12],[3,13,4,13],[34,2,35,2],[36,2,37,2],[38,2,39,2],[40,2,41,2],[42,2,43,2],[44,2,45,2],[14,11,15,11],[22,11,23,11],[30,11,31,11],[38,11,39,11],[22,5,25,5],[22,6,23,6],[24,6,25,6],[36,6,37,6],[16,11,17,11],[18,11,19,11],[26,11,27,11],[34,11,35,11],[14,2,15,2],[16,2,17,2],[18,2,19,2],[20,2,21,2],[22,2,23,2],[14,6,15,6],[18,12,19,12],[18,13,19,13],[20,11,21,11],[20,12,21,12],[20,13,21,13],[22,12,23,12],[22,13,23,13],[24,11,25,11],[24,12,25,12],[24,13,25,13],[18,7,18,10],[47,5,47,13],[48,5,48,13],[50,5,50,13],[26,12,27,12],[26,13,27,13],[28,11,29,11],[28,12,29,12],[28,13,29,13],[30,12,31,12],[30,13,31,13],[32,11,33,11],[32,12,33,12],[32,13,33,13],[32,6,33,6],[34,6,35,6],[28,7,28,10],[29,7,29,10],[30,7,30,10],[38,5,41,5],[38,6,39,6],[34,5,37,5],[40,6,41,6],[31,7,31,10],[52,12,52,13],[52,5,52,7],[52,10,52,11],[34,12,35,12],[34,13,35,13],[36,11,37,11],[36,12,37,12],[36,13,37,13],[53,7,54,9],[38,12,39,12],[38,13,39,13],[40,11,41,11],[40,12,41,12],[40,13,41,13],[42,11,43,11],[42,12,43,12],[42,13,43,13],[44,11,45,11],[44,12,45,12],[44,13,45,13],[53,10,53,11],[53,12,53,13],[54,10,54,11],[54,12,54,13]]}
[null,null,null,null,null,"記載日",null,"令和",{"$f":"出場校データ!D41","v":0},"年",{"$f":"出場校データ!D42","v":0},"月",{"$f":"出場校データ!D43","v":0},"日"]
["メニューへ",null,null,null,null,null,null,null,null,null,null,{"$f":"CONCATENATE(H1,\"　\",I1,J1,\"　\",K1,L1,\"　\",M1,N1)","v":"令和　0年　0月　0日"}]
[null,null,null,null,null,"第",{"$f":"メニュー!D1+34","v":40},"回",{"$f":"メニュー!F2","v":"中国中学校柔道選手権大会"},null,null,"申込書","男子","個人"]
[null,null,null,null,null,"ふりがな",null,{"$f":"出場校データ!D4","v":0},null,null,"学校長\n（代表者）\n氏名",{"$f":"出場校データ!D5","v":0}]
[null,null,null,null,null,"学校（チーム）名",null,{"$f":"出場校データ!D3","v":0}]
[null,null,null,null,null,"プログラム用（8文字まで）",null,{"$f":"出場校データ!D6","v":0}]
[null,null,null,null,null,"住所","〒",{"$f":"出場校データ!D7","v":0},{"$f":"CONCATENATE(出場校データ!D2,出場校データ!D8)","v":""}]
[null,null,null,null,null,"TEL",{"$f":"出場校データ!D9","v":0},null,null,"FAX",{"$f":"出場校データ!D10","v":0}]
[null,null,null,null,null,"監督氏名",{"$f":"出場校データ!D27","v":0},null,null,"職",{"$f":"出場校データ!D28","v":0}]
["出場選手データの選手番号を入力してください。\n入力事項がない場合は、100を入力してください。",null,null,null,null,"自宅TEL",{"$f":"出場校データ!D29","v":0},null,null,"携帯",{"$f":"出場校データ!D30","v":0}]
[null,null,null,null,null,"コーチ氏名",{"$f":"出場校データ!D31","v":0},null,null,"職",{"$f":"出場校データ!D32","v":0}]
[]
[null,null,null,null,null,"区分","順位","ふりがな",null,null,null,"学年","体重","段位"]
[null,null,null,null,null,null,null,"氏　名"]
[50,"１位",1,null,null,50,"１位",{"$f":"VLOOKUP(C15,出場選手データ!$1:$1048576,3)","v":0},null,null,null,{"$f":"VLOOKUP(C15,出場選手データ!$1:$1048576,4)","v":0},{"$f":"VLOOKUP(C15,出場選手データ!$1:$1048576,5)","v":0},{"$f":"VLOOKUP(C15,出場選手データ!$1:$1048576,6)","v":0}]
[null,null,null,null,null,null,null,{"$f":"VLOOKUP(C15,出場選手データ!$1:$1048576,2)","v":0}]
[null,"２位",100,null,null,null,"２位",{"$f":"VLOOKUP(C17,出場選手データ!$1:$1048576,3)","v":0},null,null,null,{"$f":"VLOOKUP(C17,出場選手データ!$1:$1048576,4)","v":0},{"$f":"VLOOKUP(C17,出場選手データ!$1:$1048576,5)","v":0},{"$f":"VLOOKUP(C17,出場選手データ!$1:$1048576,6)","v":0}]
[null,null,null,null,null,null,null,{"$f":"VLOOKUP(C17,出場選手データ!$1:$1048576,2)","v":0}]
[55,"１位",100,null,null,55,"１位",{"$f":"VLOOKUP(C19,出場選手データ!$1:$1048576,3)","v":0},null,null,null,{"$f":"VLOOKUP(C19,出場選手データ!$1:$1048576,4)","v":0},{"$f":"VLOOKUP(C19,出場選手データ!$1:$1048576,5)","v":0},{"$f":"VLOOKUP(C19,出場選手データ!$1:$1048576,6)","v":0}]
[null,null,null,null,null,null,null,{"$f":"VLOOKUP(C19,出場選手データ!$1:$1048576,2)","v":0}]
[null,"２位",100,null,null,null,"２位",{"$f":"VLOOKUP(C21,出場選手データ!$1:$1048576,3)","v":0},null,null,null,{"$f":"VLOOKUP(C21,出場選手データ!$1:$1048576,4)","v":0},{"$f":"VLOOKUP(C21,出場選手データ!$1:$1048576,5)","v":0},{"$f":"VLOOKUP(C21,出場選手データ!$1:$1048576,6)","v":0}]
[null,null,null,null,null,null,null,{"$f":"VLOOKUP(C21,出場選手データ!$1:$1048576,2)","v":0}]
[60,"１位",100,null,null,60,"１位",{"$f":"VLOOKUP(C23,出場選手データ!$1:$1048576,3)","v":0},null,null,null,{"$f":"VLOOKUP(C23,出場選手データ!$1:$1048576,4)","v":0},{"$f":"VLOOKUP(C23,出場選手データ!$1:$1048576,5)","v":0},{"$f":"VLOOKUP(C23,出場選手データ!$1:$1048576,6)","v":0}]
[null,null,null,null,null,null,null,{"$f":"VLOOKUP(C23,出場選手データ!$1:$1048576,2)","v":0}]
[null,"２位",2,null,null,null,"２位",{"$f":"VLOOKUP(C25,出場選手データ!$1:$1048576,3)","v":0},null,null,null,{"$f":"VLOOKUP(C25,出場選手データ!$1:$1048576,4)","v":0},{"$f":"VLOOKUP(C25,出場選手データ!$1:$1048576,5)","v":0},{"$f":"VLOOKUP(C25,出場選手データ!$1:$1048576,6)","v":0}]
[null,null,null,null,null,null,null,{"$f":"VLOOKUP(C25,出場選手データ!$1:$1048576,2)","v":0}]
[66,"１位",100,null,null,66,"１位",{"$f":"VLOOKUP(C27,出場選手データ!$1:$1048576,3)","v":0},null,null,null,{"$f":"VLOOKUP(C27,出場選手データ!$1:$1048576,4)","v":0},{"$f":"VLOOKUP(C27,出場選手データ!$1:$1048576,5)","v":0},{"$f":"VLOOKUP(C27,出場選手データ!$1:$1048576,6)","v":0}]
[null,null,null,null,null,null,null,{"$f":"VLOOKUP(C27,出場選手データ!$1:$1048576,2)","v":0}]
[null,"２位",100,null,null,null,"２位",{"$f":"VLOOKUP(C29,出場選手データ!$1:$1048576,3)","v":0},null,null,null,{"$f":"VLOOKUP(C29,出場選手データ!$1:$1048576,4)","v":0},{"$f":"VLOOKUP(C29,出場選手データ!$1:$1048576,5)","v":0},{"$f":"VLOOKUP(C29,出場選手データ!$1:$1048576,6)","v":0}]
[null,null,null,null,null,null,null,{"$f":"VLOOKUP(C29,出場選手データ!$1:$1048576,2)","v":0}]
[73,"１位",100,null,null,73,"１位",{"$f":"VLOOKUP(C31,出場選手データ!$1:$1048576,3)","v":0},null,null,null,{"$f":"VLOOKUP(C31,出場選手データ!$1:$1048576,4)","v":0},{"$f":"VLOOKUP(C31,出場選手データ!$1:$1048576,5)","v":0},{"$f":"VLOOKUP(C31,出場選手データ!$1:$1048576,6)","v":0}]
[null,null,null,null,null,null,null,{"$f":"VLOOKUP(C31,出場選手データ!$1:$1048576,2)","v":0}]
[null,"２位",100,null,null,null,"２位",{"$f":"VLOOKUP(C33,出場選手データ!$1:$1048576,3)","v":0},null,null,null,{"$f":"VLOOKUP(C33,出場選手データ!$1:$1048576,4)","v":0},{"$f":"VLOOKUP(C33,出場選手データ!$1:$1048576,5)","v":0},{"$f":"VLOOKUP(C33,出場選手データ!$1:$1048576,6)","v":0}]
[null,null,null,null,null,null,null,{"$f":"VLOOKUP(C33,出場選手データ!$1:$1048576,2)","v":0}]
[81,"１位",100,null,null,81,"１位",{"$f":"VLOOKUP(C35,出場選手データ!$1:$1048576,3)","v":0},null,null,null,{"$f":"VLOOKUP(C35,出場選手データ!$1:$1048576,4)","v":0},{"$f":"VLOOKUP(C35,出場選手データ!$1:$1048576,5)","v":0},{"$f":"VLOOKUP(C35,出場選手データ!$1:$1048576,6)","v":0}]
[null,null,null,null,null,null,null,{"$f":"VLOOKUP(C35,出場選手データ!$1:$1048576,2)","v":0}]
[null,"２位",100,null,null,null,"２位",{"$f":"VLOOKUP(C37,出場選手データ!$1:$1048576,3)","v":0},null,null,null,{"$f":"VLOOKUP(C37,出場選手データ!$1:$1048576,4)","v":0},{"$f":"VLOOKUP(C37,出場選手データ!$1:$1048576,5)","v":0},{"$f":"VLOOKUP(C37,出場選手データ!$1:$1048576,6)","v":0}]
[null,null,null,null,null,null,null,{"$f":"VLOOKUP(C37,出場選手データ!$1:$1048576,2)","v":0}]
[90,"１位",1,null,null,90,"１位",{"$f":"VLOOKUP(C39,出場選手データ!$1:$1048576,3)","v":0},null,null,null,{"$f":"VLOOKUP(C39,出場選手データ!$1:$1048576,4)","v":0},{"$f":"VLOOKUP(C39,出場選手データ!$1:$1048576,5)","v":0},{"$f":"VLOOKUP(C39,出場選手データ!$1:$1048576,6)","v":0}]
[null,null,null,null,null,null,null,{"$f":"VLOOKUP(C39,出場選手データ!$1:$1048576,2)","v":0}]
[null,"２位",100,null,null,null,"２位",{"$f":"VLOOKUP(C41,出場選手データ!$1:$1048576,3)","v":0},null,null,null,{"$f":"VLOOKUP(C41,出場選手データ!$1:$1048576,4)","v":0},{"$f":"VLOOKUP(C41,出場選手データ!$1:$1048576,5)","v":0},{"$f":"VLOOKUP(C41,出場選手データ!$1:$1048576,6)","v":0}]
[null,null,null,null,null,null,null,{"$f":"VLOOKUP(C41,出場選手データ!$1:$1048576,2)","v":0}]
["90㎏超級","１位",100,null,null,"90㎏超級","１位",{"$f":"VLOOKUP(C43,出場選手データ!$1:$1048576,3)","v":0},null,null,null,{"$f":"VLOOKUP(C43,出場選手データ!$1:$1048576,4)","v":0},{"$f":"VLOOKUP(C43,出場選手データ!$1:$1048576,5)","v":0},{"$f":"VLOOKUP(C43,出場選手データ!$1:$1048576,6)","v":0}]
[null,null,null,null,null,null,null,{"$f":"VLOOKUP(C43,出場選手データ!$1:$1048576,2)","v":0}]
[null,"２位",1,null,null,null,"２位",{"$f":"VLOOKUP(C45,出場選手データ!$1:$1048576,3)","v":0},null,null,null,{"$f":"VLOOKUP(C45,出場選手データ!$1:$1048576,4)","v":0},{"$f":"VLOOKUP(C45,出場選手データ!$1:$1048576,5)","v":0},{"$f":"VLOOKUP(C45,出場選手データ!$1:$1048576,6)","v":0}]
[null,null,null,null,null,null,null,{"$f":"VLOOKUP(C45,出場選手データ!$1:$1048576,2)","v":0}]
[]
[]
[]
[]
[null,null,null,null,null,"※上記の生徒は、本競技大会参加申込に際し、大会要項に記載の内容を確認し、同意を得ています。"]
[]
[null,null,null,null,null,"〈大会負担金〉男子個人",null,null,{"$f":"出場校データ!D2","v":0},null,{"$f":"H6","v":0},null,"中学校（チーム）"]
[null,null,null,null,null,null,null,"男子個人戦だけに出場する選手のみ記入",null,null,"個人出場選手（名）",null,"大会負担金合計"]
[null,null,null,null,null,null,null,null,null,null,{"$f":"出場校データ!D33","v":0},null,{"$f":"K55*2000","v":0}]

{"sheet":"開催県女子個人申込様式 ","index":7,"n_rows":55,"n_cols":14,"rows_kept":55,"cut":false,"hidden":false,"merged":[[22,0,25,0],[22,1,23,1],[24,1,25,1],[26,0,29,0],[26,1,27,1],[28,1,29,1],[14,0,17,0],[14,1,15,1],[16,1,17,1],[18,0,21,0],[18,1,19,1],[20,1,21,1],[38,0,41,0],[38,1,39,1],[40,1,41,1],[42,0,45,0],[42,1,43,1],[44,1,45,1],[30,0,33,0],[30,1,31,1],[32,1,33,1],[34,0,37,0],[34,1,35,1],[36,1,37,1],[47,5,47,13],[48,5,48,13],[50,5,50,13],[52,5,52,7],[52,10,52,11],[53,7,54,9],[53,10,53,11],[53,12,53,13],[54,10,54,11],[54,12,54,13],[52,12,52,13],[42,13,43,13],[43,7,43,10],[44,2,45,2],[44,6,45,6],[44,7,44,10],[44,11,45,11],[44,12,45,12],[44,13,45,13],[45,7,45,10],[42,2,43,2],[42,5,45,5],[42,6,43,6],[42,7,42,10],[42,11,43,11],[42,12,43,12],[38,13,39,13],[39,7,39,10],[40,2,41,2],[40,6,41,6],[40,7,40,10],[40,11,41,11],[40,12,41,12],[40,13,41,13],[41,7,41,10],[38,2,39,2],[38,5,41,5],[38,6,39,6],[38,7,38,10],[38,11,39,11],[38,12,39,12],[34,13,35,13],[35,7,35,10],[36,2,37,2],[36,6,37,6],[36,7,36,10],[36,11,37,11],[36,12,37,12],[36,13,37,13],[37,7,37,10],[34,2,35,2],[34,5,37,5],[34,6,35,6],[34,7,34,10],[34,11,35,11],[34,12,35,12],[30,13,31,13],[31,7,31,10],[32,2,33,2],[32,6,33,6],[32,7,32,10],[32,11,33,11],[32,12,33,12],[32,13,33,13],[33,7,33,10],[30,2,31,2],[30,5,33,5],[30,6,31,6],[30,7,30,10],[30,11,31,11],[30,12,31,12],[26,13,27,13],[27,7,27,10],[28,2,29,2],[28,6,29,6],[28,7,28,10],[28,11,29,11],[28,12,29,12],[28,13,29,13],[29,7,29,10],[26,2,27,2],[26,5,29,5],[26,6,27,6],[26,7,26,10],[26,11,27,11],[26,12,27,12],[22,13,23,13],[23,7,23,10],[24,2,25,2],[24,6,25,6],[24,7,24,10],[24,11,25,11],[24,12,25,12],[24,13,25,13],[25,7,25,10],[22,2,23,2],[22,5,25,5],[22,6,23,6],[22,7,22,10],[22,11,23,11],[22,12,23,12],[18,13,19,13],[19,7,19,10],[20,2,21,2],[20,6,21,6],[20,7,20,10],[20,11,21,11],[20,12,21,12],[20,13,21,13],[21,7,21,10],[18,2,19,2],[18,5,21,5],[18,6,19,6],[18,7,18,10],[18,11,19,11],[18,12,19,12],[16,2,17,2],[16,6,17,6],[16,7,16,10],[16,11,17,11],[16,12,17,12],[16,13,17,13],[17,7,17,10],[12,13,13,13],[13,7,13,10],[14,2,15,2],[14,5,17,5],[14,6,15,6],[14,7,14,10],[14,11,15,11],[14,12,15,12],[14,13,15,13],[15,7,15,10],[9,0,13,2],[9,6,9,8],[9,10,9,13],[10,6,10,8],[10,10,10,13],[12,5,13,5],[12,6,13,6],[12,7,12,10],[12,11,13,11],[12,12,13,12],[5,5,5,6],[5,7,5,13],[6,8,6,13],[7,6,7,8],[7,10,7,13],[8,6,8,8],[8,10,8,13],[0,5,0,6],[1,11,1,13],[3,5,3,6],[3,7,3,9],[3,10,4,10],[4,5,4,6],[4,7,4,9],[2,8,2,10],[3,11,4,12],[3,13,4,13]]}
[null,null,null,null,null,"記載日",null,"令和",{"$f":"出場校データ!D41","v":0},"年",{"$f":"出場校データ!D42","v":0},"月",{"$f":"出場校データ!D43","v":0},"日"]
["メニューへ",null,null,null,null,null,null,null,null,null,null,{"$f":"CONCATENATE(H1,\"　\",I1,J1,\"　\",K1,L1,\"　\",M1,N1)","v":"令和　0年　0月　0日"}]
[null,null,null,null,null,"第",{"$f":"メニュー!D1+34","v":40},"回",{"$f":"メニュー!F2","v":"中国中学校柔道選手権大会"},null,null,"申込書","女子","個人"]
[null,null,null,null,null,"ふりがな",null,{"$f":"出場校データ!D4","v":0},null,null,"学校長\n（代表者）\n氏名",{"$f":"出場校データ!D5","v":0}]
[null,null,null,null,null,"学校（チーム）名",null,{"$f":"出場校データ!D3","v":0}]
[null,null,null,null,null,"プログラム用（8文字まで）",null,{"$f":"出場校データ!D6","v":0}]
[null,null,null,null,null,"住所","〒",{"$f":"出場校データ!D7","v":0},{"$f":"CONCATENATE(出場校データ!D2,出場校データ!D8)","v":""}]
[null,null,null,null,null,"TEL",{"$f":"出場校データ!D9","v":0},null,null,"FAX",{"$f":"出場校データ!D10","v":0}]
[null,null,null,null,null,"監督氏名",{"$f":"出場校データ!D34","v":0},null,null,"職",{"$f":"出場校データ!D35","v":0}]
["出場選手データの選手番号を入力してください。\n入力事項がない場合は、100を入力してください。",null,null,null,null,"自宅TEL",{"$f":"出場校データ!D36","v":0},null,null,"携帯",{"$f":"出場校データ!D37","v":0}]
[null,null,null,null,null,"コーチ氏名",{"$f":"出場校データ!D38","v":0},null,null,"職",{"$f":"出場校データ!D39","v":0}]
[]
[null,null,null,null,null,"区分","順位","ふりがな",null,null,null,"学年","体重","段位"]
[null,null,null,null,null,null,null,"氏　名"]
[40,"３位",100,null,null,40,"３位",{"$f":"VLOOKUP(C15,出場選手データ!$1:$1048576,3)","v":0},null,null,null,{"$f":"VLOOKUP(C15,出場選手データ!$1:$1048576,4)","v":0},{"$f":"VLOOKUP(C15,出場選手データ!$1:$1048576,5)","v":0},{"$f":"VLOOKUP(C15,出場選手データ!$1:$1048576,6)","v":0}]
[null,null,null,null,null,null,null,{"$f":"VLOOKUP(C15,出場選手データ!$1:$1048576,2)","v":0}]
[null,"３位",100,null,null,null,"３位",{"$f":"VLOOKUP(C17,出場選手データ!$1:$1048576,3)","v":0},null,null,null,{"$f":"VLOOKUP(C17,出場選手データ!$1:$1048576,4)","v":0},{"$f":"VLOOKUP(C17,出場選手データ!$1:$1048576,5)","v":0},{"$f":"VLOOKUP(C17,出場選手データ!$1:$1048576,6)","v":0}]
[null,null,null,null,null,null,null,{"$f":"VLOOKUP(C17,出場選手データ!$1:$1048576,2)","v":0}]
[44,"３位",100,null,null,44,"３位",{"$f":"VLOOKUP(C19,出場選手データ!$1:$1048576,3)","v":0},null,null,null,{"$f":"VLOOKUP(C19,出場選手データ!$1:$1048576,4)","v":0},{"$f":"VLOOKUP(C19,出場選手データ!$1:$1048576,5)","v":0},{"$f":"VLOOKUP(C19,出場選手データ!$1:$1048576,6)","v":0}]
[null,null,null,null,null,null,null,{"$f":"VLOOKUP(C19,出場選手データ!$1:$1048576,2)","v":0}]
[null,"３位",100,null,null,null,"３位",{"$f":"VLOOKUP(C21,出場選手データ!$1:$1048576,3)","v":0},null,null,null,{"$f":"VLOOKUP(C21,出場選手データ!$1:$1048576,4)","v":0},{"$f":"VLOOKUP(C21,出場選手データ!$1:$1048576,5)","v":0},{"$f":"VLOOKUP(C21,出場選手データ!$1:$1048576,6)","v":0}]
[null,null,null,null,null,null,null,{"$f":"VLOOKUP(C21,出場選手データ!$1:$1048576,2)","v":0}]
[48,"３位",100,null,null,48,"３位",{"$f":"VLOOKUP(C23,出場選手データ!$1:$1048576,3)","v":0},null,null,null,{"$f":"VLOOKUP(C23,出場選手データ!$1:$1048576,4)","v":0},{"$f":"VLOOKUP(C23,出場選手データ!$1:$1048576,5)","v":0},{"$f":"VLOOKUP(C23,出場選手データ!$1:$1048576,6)","v":0}]
[null,null,null,null,null,null,null,{"$f":"VLOOKUP(C23,出場選手データ!$1:$1048576,2)","v":0}]
[null,"３位",100,null,null,null,"３位",{"$f":"VLOOKUP(C25,出場選手データ!$1:$1048576,3)","v":0},null,null,null,{"$f":"VLOOKUP(C25,出場選手データ!$1:$1048576,4)","v":0},{"$f":"VLOOKUP(C25,出場選手データ!$1:$1048576,5)","v":0},{"$f":"VLOOKUP(C25,出場選手データ!$1:$1048576,6)","v":0}]
[null,null,null,null,null,null,null,{"$f":"VLOOKUP(C25,出場選手データ!$1:$1048576,2)","v":0}]
[52,"３位",100,null,null,52,"３位",{"$f":"VLOOKUP(C27,出場選手データ!$1:$1048576,3)","v":0},null,null,null,{"$f":"VLOOKUP(C27,出場選手データ!$1:$1048576,4)","v":0},{"$f":"VLOOKUP(C27,出場選手データ!$1:$1048576,5)","v":0},{"$f":"VLOOKUP(C27,出場選手データ!$1:$1048576,6)","v":0}]
[null,null,null,null,null,null,null,{"$f":"VLOOKUP(C27,出場選手データ!$1:$1048576,2)","v":0}]
[null,"３位",100,null,null,null,"３位",{"$f":"VLOOKUP(C29,出場選手データ!$1:$1048576,3)","v":0},null,null,null,{"$f":"VLOOKUP(C29,出場選手データ!$1:$1048576,4)","v":0},{"$f":"VLOOKUP(C29,出場選手データ!$1:$1048576,5)","v":0},{"$f":"VLOOKUP(C29,出場選手データ!$1:$1048576,6)","v":0}]
[null,null,null,null,null,null,null,{"$f":"VLOOKUP(C29,出場選手データ!$1:$1048576,2)","v":0}]
[57,"３位",100,null,null,57,"３位",{"$f":"VLOOKUP(C31,出場選手データ!$1:$1048576,3)","v":0},null,null,null,{"$f":"VLOOKUP(C31,出場選手データ!$1:$1048576,4)","v":0},{"$f":"VLOOKUP(C31,出場選手データ!$1:$1048576,5)","v":0},{"$f":"VLOOKUP(C31,出場選手データ!$1:$1048576,6)","v":0}]
[null,null,null,null,null,null,null,{"$f":"VLOOKUP(C31,出場選手データ!$1:$1048576,2)","v":0}]
[null,"３位",100,null,null,null,"３位",{"$f":"VLOOKUP(C33,出場選手データ!$1:$1048576,3)","v":0},null,null,null,{"$f":"VLOOKUP(C33,出場選手データ!$1:$1048576,4)","v":0},{"$f":"VLOOKUP(C33,出場選手データ!$1:$1048576,5)","v":0},{"$f":"VLOOKUP(C33,出場選手データ!$1:$1048576,6)","v":0}]
[null,null,null,null,null,null,null,{"$f":"VLOOKUP(C33,出場選手データ!$1:$1048576,2)","v":0}]
[63,"３位",100,null,null,63,"３位",{"$f":"VLOOKUP(C35,出場選手データ!$1:$1048576,3)","v":0},null,null,null,{"$f":"VLOOKUP(C35,出場選手データ!$1:$1048576,4)","v":0},{"$f":"VLOOKUP(C35,出場選手データ!$1:$1048576,5)","v":0},{"$f":"VLOOKUP(C35,出場選手データ!$1:$1048576,6)","v":0}]
[null,null,null,null,null,null,null,{"$f":"VLOOKUP(C35,出場選手データ!$1:$1048576,2)","v":0}]
[null,"３位",100,null,null,null,"３位",{"$f":"VLOOKUP(C37,出場選手データ!$1:$1048576,3)","v":0},null,null,null,{"$f":"VLOOKUP(C37,出場選手データ!$1:$1048576,4)","v":0},{"$f":"VLOOKUP(C37,出場選手データ!$1:$1048576,5)","v":0},{"$f":"VLOOKUP(C37,出場選手データ!$1:$1048576,6)","v":0}]
[null,null,null,null,null,null,null,{"$f":"VLOOKUP(C37,出場選手データ!$1:$1048576,2)","v":0}]
[70,"３位",100,null,null,70,"３位",{"$f":"VLOOKUP(C39,出場選手データ!$1:$1048576,3)","v":0},null,null,null,{"$f":"VLOOKUP(C39,出場選手データ!$1:$1048576,4)","v":0},{"$f":"VLOOKUP(C39,出場選手データ!$1:$1048576,5)","v":0},{"$f":"VLOOKUP(C39,出場選手データ!$1:$1048576,6)","v":0}]
[null,null,null,null,null,null,null,{"$f":"VLOOKUP(C39,出場選手データ!$1:$1048576,2)","v":0}]
[null,"３位",100,null,null,null,"３位",{"$f":"VLOOKUP(C41,出場選手データ!$1:$1048576,3)","v":0},null,null,null,{"$f":"VLOOKUP(C41,出場選手データ!$1:$1048576,4)","v":0},{"$f":"VLOOKUP(C41,出場選手データ!$1:$1048576,5)","v":0},{"$f":"VLOOKUP(C41,出場選手データ!$1:$1048576,6)","v":0}]
[null,null,null,null,null,null,null,{"$f":"VLOOKUP(C41,出場選手データ!$1:$1048576,2)","v":0}]
["70㎏超級","３位",100,null,null,"70㎏超級","３位",{"$f":"VLOOKUP(C43,出場選手データ!$1:$1048576,3)","v":0},null,null,null,{"$f":"VLOOKUP(C43,出場選手データ!$1:$1048576,4)","v":0},{"$f":"VLOOKUP(C43,出場選手データ!$1:$1048576,5)","v":0},{"$f":"VLOOKUP(C43,出場選手データ!$1:$1048576,6)","v":0}]
[null,null,null,null,null,null,null,{"$f":"VLOOKUP(C43,出場選手データ!$1:$1048576,2)","v":0}]
[null,"３位",100,null,null,null,"３位",{"$f":"VLOOKUP(C45,出場選手データ!$1:$1048576,3)","v":0},null,null,null,{"$f":"VLOOKUP(C45,出場選手データ!$1:$1048576,4)","v":0},{"$f":"VLOOKUP(C45,出場選手データ!$1:$1048576,5)","v":0},{"$f":"VLOOKUP(C45,出場選手データ!$1:$1048576,6)","v":0}]
[null,null,null,null,null,null,null,{"$f":"VLOOKUP(C45,出場選手データ!$1:$1048576,2)","v":0}]
[]
[]
[]
[]
[null,null,null,null,null,"※上記の生徒は、本競技大会参加申込に際し、大会要項に記載の内容を確認し、同意を得ています。"]
[]
[null,null,null,null,null,"〈大会負担金〉女子個人",null,null,{"$f":"出場校データ!D2","v":0},null,{"$f":"H6","v":0},null,"中学校（チーム）"]
[null,null,null,null,null,null,null,"女子個人戦だけに出場する選手のみ記入",null,null,"個人出場選手（名）",null,"大会負担金合計"]
[null,null,null,null,null,null,null,null,null,null,{"$f":"出場校データ!D40","v":0},null,{"$f":"K55*2000","v":0}]

{"sheet":"開催県男子個人申込様式 ","index":8,"n_rows":55,"n_cols":14,"rows_kept":55,"cut":false,"hidden":false,"merged":[[22,0,25,0],[22,1,23,1],[24,1,25,1],[26,0,29,0],[26,1,27,1],[28,1,29,1],[14,0,17,0],[14,1,15,1],[16,1,17,1],[18,0,21,0],[18,1,19,1],[20,1,21,1],[38,0,41,0],[38,1,39,1],[40,1,41,1],[42,0,45,0],[42,1,43,1],[44,1,45,1],[30,0,33,0],[30,1,31,1],[32,1,33,1],[34,0,37,0],[34,1,35,1],[36,1,37,1],[47,5,47,13],[48,5,48,13],[50,5,50,13],[52,5,52,7],[52,10,52,11],[53,7,54,9],[53,10,53,11],[53,12,53,13],[54,10,54,11],[54,12,54,13],[52,12,52,13],[42,13,43,13],[43,7,43,10],[44,2,45,2],[44,6,45,6],[44,7,44,10],[44,11,45,11],[44,12,45,12],[44,13,45,13],[45,7,45,10],[42,2,43,2],[42,5,45,5],[42,6,43,6],[42,7,42,10],[42,11,43,11],[42,12,43,12],[38,13,39,13],[39,7,39,10],[40,2,41,2],[40,6,41,6],[40,7,40,10],[40,11,41,11],[40,12,41,12],[40,13,41,13],[41,7,41,10],[38,2,39,2],[38,5,41,5],[38,6,39,6],[38,7,38,10],[38,11,39,11],[38,12,39,12],[34,13,35,13],[35,7,35,10],[36,2,37,2],[36,6,37,6],[36,7,36,10],[36,11,37,11],[36,12,37,12],[36,13,37,13],[37,7,37,10],[34,2,35,2],[34,5,37,5],[34,6,35,6],[34,7,34,10],[34,11,35,11],[34,12,35,12],[30,13,31,13],[31,7,31,10],[32,2,33,2],[32,6,33,6],[32,7,32,10],[32,11,33,11],[32,12,33,12],[32,13,33,13],[33,7,33,10],[30,2,31,2],[30,5,33,5],[30,6,31,6],[30,7,30,10],[30,11,31,11],[30,12,31,12],[26,13,27,13],[27,7,27,10],[28,2,29,2],[28,6,29,6],[28,7,28,10],[28,11,29,11],[28,12,29,12],[28,13,29,13],[29,7,29,10],[26,2,27,2],[26,5,29,5],[26,6,27,6],[26,7,26,10],[26,11,27,11],[26,12,27,12],[22,13,23,13],[23,7,23,10],[24,2,25,2],[24,6,25,6],[24,7,24,10],[24,11,25,11],[24,12,25,12],[24,13,25,13],[25,7,25,10],[22,2,23,2],[22,5,25,5],[22,6,23,6],[22,7,22,10],[22,11,23,11],[22,12,23,12],[18,13,19,13],[19,7,19,10],[20,2,21,2],[20,6,21,6],[20,7,20,10],[20,11,21,11],[20,12,21,12],[20,13,21,13],[21,7,21,10],[18,2,19,2],[18,5,21,5],[18,6,19,6],[18,7,18,10],[18,11,19,11],[18,12,19,12],[16,2,17,2],[16,6,17,6],[16,7,16,10],[16,11,17,11],[16,12,17,12],[16,13,17,13],[17,7,17,10],[12,13,13,13],[13,7,13,10],[14,2,15,2],[14,5,17,5],[14,6,15,6],[14,7,14,10],[14,11,15,11],[14,12,15,12],[14,13,15,13],[15,7,15,10],[9,0,13,2],[9,6,9,8],[9,10,9,13],[10,6,10,8],[10,10,10,13],[12,5,13,5],[12,6,13,6],[12,7,12,10],[12,11,13,11],[12,12,13,12],[5,5,5,6],[5,7,5,13],[6,8,6,13],[7,6,7,8],[7,10,7,13],[8,6,8,8],[8,10,8,13],[0,5,0,6],[1,11,1,13],[3,5,3,6],[3,7,3,9],[3,10,4,10],[4,5,4,6],[4,7,4,9],[2,8,2,10],[3,11,4,12],[3,13,4,13]]}
[null,null,null,null,null,"記載日",null,"令和",{"$f":"出場校データ!D41","v":0},"年",{"$f":"出場校データ!D42","v":0},"月",{"$f":"出場校データ!D43","v":0},"日"]
["メニューへ",null,null,null,null,null,null,null,null,null,null,{"$f":"CONCATENATE(H1,\"　\",I1,J1,\"　\",K1,L1,\"　\",M1,N1)","v":"令和　0年　0月　0日"}]
[null,null,null,null,null,"第",{"$f":"メニュー!D1+34","v":40},"回",{"$f":"メニュー!F2","v":"中国中学校柔道選手権大会"},null,null,"申込書","男子","個人"]
[null,null,null,null,null,"ふりがな",null,{"$f":"出場校データ!D4","v":0},null,null,"学校長\n（代表者）\n氏名",{"$f":"出場校データ!D5","v":0}]
[null,null,null,null,null,"学校（チーム）名",null,{"$f":"出場校データ!D3","v":0}]
[null,null,null,null,null,"プログラム用（8文字まで）",null,{"$f":"出場校データ!D6","v":0}]
[null,null,null,null,null,"住所","〒",{"$f":"出場校データ!D7","v":0},{"$f":"CONCATENATE(出場校データ!D2,出場校データ!D8)","v":""}]
[null,null,null,null,null,"TEL",{"$f":"出場校データ!D9","v":0},null,null,"FAX",{"$f":"出場校データ!D10","v":0}]
[null,null,null,null,null,"監督氏名",{"$f":"出場校データ!D27","v":0},null,null,"職",{"$f":"出場校データ!D28","v":0}]
["出場選手データの選手番号を入力してください。\n入力事項がない場合は、100を入力してください。",null,null,null,null,"自宅TEL",{"$f":"出場校データ!D29","v":0},null,null,"携帯",{"$f":"出場校データ!D30","v":0}]
[null,null,null,null,null,"コーチ氏名",{"$f":"出場校データ!D31","v":0},null,null,"職",{"$f":"出場校データ!D32","v":0}]
[]
[null,null,null,null,null,"区分","順位","ふりがな",null,null,null,"学年","体重","段位"]
[null,null,null,null,null,null,null,"氏　名"]
[50,"３位",100,null,null,50,"３位",{"$f":"VLOOKUP(C15,出場選手データ!$1:$1048576,3)","v":0},null,null,null,{"$f":"VLOOKUP(C15,出場選手データ!$1:$1048576,4)","v":0},{"$f":"VLOOKUP(C15,出場選手データ!$1:$1048576,5)","v":0},{"$f":"VLOOKUP(C15,出場選手データ!$1:$1048576,6)","v":0}]
[null,null,null,null,null,null,null,{"$f":"VLOOKUP(C15,出場選手データ!$1:$1048576,2)","v":0}]
[null,"３位",100,null,null,null,"３位",{"$f":"VLOOKUP(C17,出場選手データ!$1:$1048576,3)","v":0},null,null,null,{"$f":"VLOOKUP(C17,出場選手データ!$1:$1048576,4)","v":0},{"$f":"VLOOKUP(C17,出場選手データ!$1:$1048576,5)","v":0},{"$f":"VLOOKUP(C17,出場選手データ!$1:$1048576,6)","v":0}]
[null,null,null,null,null,null,null,{"$f":"VLOOKUP(C17,出場選手データ!$1:$1048576,2)","v":0}]
[55,"３位",100,null,null,55,"３位",{"$f":"VLOOKUP(C19,出場選手データ!$1:$1048576,3)","v":0},null,null,null,{"$f":"VLOOKUP(C19,出場選手データ!$1:$1048576,4)","v":0},{"$f":"VLOOKUP(C19,出場選手データ!$1:$1048576,5)","v":0},{"$f":"VLOOKUP(C19,出場選手データ!$1:$1048576,6)","v":0}]
[null,null,null,null,null,null,null,{"$f":"VLOOKUP(C19,出場選手データ!$1:$1048576,2)","v":0}]
[null,"３位",100,null,null,null,"３位",{"$f":"VLOOKUP(C21,出場選手データ!$1:$1048576,3)","v":0},null,null,null,{"$f":"VLOOKUP(C21,出場選手データ!$1:$1048576,4)","v":0},{"$f":"VLOOKUP(C21,出場選手データ!$1:$1048576,5)","v":0},{"$f":"VLOOKUP(C21,出場選手データ!$1:$1048576,6)","v":0}]
[null,null,null,null,null,null,null,{"$f":"VLOOKUP(C21,出場選手データ!$1:$1048576,2)","v":0}]
[60,"３位",100,null,null,60,"３位",{"$f":"VLOOKUP(C23,出場選手データ!$1:$1048576,3)","v":0},null,null,null,{"$f":"VLOOKUP(C23,出場選手データ!$1:$1048576,4)","v":0},{"$f":"VLOOKUP(C23,出場選手データ!$1:$1048576,5)","v":0},{"$f":"VLOOKUP(C23,出場選手データ!$1:$1048576,6)","v":0}]
[null,null,null,null,null,null,null,{"$f":"VLOOKUP(C23,出場選手データ!$1:$1048576,2)","v":0}]
[null,"３位",100,null,null,null,"３位",{"$f":"VLOOKUP(C25,出場選手データ!$1:$1048576,3)","v":0},null,null,null,{"$f":"VLOOKUP(C25,出場選手データ!$1:$1048576,4)","v":0},{"$f":"VLOOKUP(C25,出場選手データ!$1:$1048576,5)","v":0},{"$f":"VLOOKUP(C25,出場選手データ!$1:$1048576,6)","v":0}]
[null,null,null,null,null,null,null,{"$f":"VLOOKUP(C25,出場選手データ!$1:$1048576,2)","v":0}]
[66,"３位",100,null,null,66,"３位",{"$f":"VLOOKUP(C27,出場選手データ!$1:$1048576,3)","v":0},null,null,null,{"$f":"VLOOKUP(C27,出場選手データ!$1:$1048576,4)","v":0},{"$f":"VLOOKUP(C27,出場選手データ!$1:$1048576,5)","v":0},{"$f":"VLOOKUP(C27,出場選手データ!$1:$1048576,6)","v":0}]
[null,null,null,null,null,null,null,{"$f":"VLOOKUP(C27,出場選手データ!$1:$1048576,2)","v":0}]
[null,"３位",100,null,null,null,"３位",{"$f":"VLOOKUP(C29,出場選手データ!$1:$1048576,3)","v":0},null,null,null,{"$f":"VLOOKUP(C29,出場選手データ!$1:$1048576,4)","v":0},{"$f":"VLOOKUP(C29,出場選手データ!$1:$1048576,5)","v":0},{"$f":"VLOOKUP(C29,出場選手データ!$1:$1048576,6)","v":0}]
[null,null,null,null,null,null,null,{"$f":"VLOOKUP(C29,出場選手データ!$1:$1048576,2)","v":0}]
[73,"３位",100,null,null,73,"３位",{"$f":"VLOOKUP(C31,出場選手データ!$1:$1048576,3)","v":0},null,null,null,{"$f":"VLOOKUP(C31,出場選手データ!$1:$1048576,4)","v":0},{"$f":"VLOOKUP(C31,出場選手データ!$1:$1048576,5)","v":0},{"$f":"VLOOKUP(C31,出場選手データ!$1:$1048576,6)","v":0}]
[null,null,null,null,null,null,null,{"$f":"VLOOKUP(C31,出場選手データ!$1:$1048576,2)","v":0}]
[null,"３位",100,null,null,null,"３位",{"$f":"VLOOKUP(C33,出場選手データ!$1:$1048576,3)","v":0},null,null,null,{"$f":"VLOOKUP(C33,出場選手データ!$1:$1048576,4)","v":0},{"$f":"VLOOKUP(C33,出場選手データ!$1:$1048576,5)","v":0},{"$f":"VLOOKUP(C33,出場選手データ!$1:$1048576,6)","v":0}]
[null,null,null,null,null,null,null,{"$f":"VLOOKUP(C33,出場選手データ!$1:$1048576,2)","v":0}]
[81,"３位",100,null,null,81,"３位",{"$f":"VLOOKUP(C35,出場選手データ!$1:$1048576,3)","v":0},null,null,null,{"$f":"VLOOKUP(C35,出場選手データ!$1:$1048576,4)","v":0},{"$f":"VLOOKUP(C35,出場選手データ!$1:$1048576,5)","v":0},{"$f":"VLOOKUP(C35,出場選手データ!$1:$1048576,6)","v":0}]
[null,null,null,null,null,null,null,{"$f":"VLOOKUP(C35,出場選手データ!$1:$1048576,2)","v":0}]
[null,"３位",100,null,null,null,"３位",{"$f":"VLOOKUP(C37,出場選手データ!$1:$1048576,3)","v":0},null,null,null,{"$f":"VLOOKUP(C37,出場選手データ!$1:$1048576,4)","v":0},{"$f":"VLOOKUP(C37,出場選手データ!$1:$1048576,5)","v":0},{"$f":"VLOOKUP(C37,出場選手データ!$1:$1048576,6)","v":0}]
[null,null,null,null,null,null,null,{"$f":"VLOOKUP(C37,出場選手データ!$1:$1048576,2)","v":0}]
[90,"３位",100,null,null,90,"３位",{"$f":"VLOOKUP(C39,出場選手データ!$1:$1048576,3)","v":0},null,null,null,{"$f":"VLOOKUP(C39,出場選手データ!$1:$1048576,4)","v":0},{"$f":"VLOOKUP(C39,出場選手データ!$1:$1048576,5)","v":0},{"$f":"VLOOKUP(C39,出場選手データ!$1:$1048576,6)","v":0}]
[null,null,null,null,null,null,null,{"$f":"VLOOKUP(C39,出場選手データ!$1:$1048576,2)","v":0}]
[null,"３位",100,null,null,null,"３位",{"$f":"VLOOKUP(C41,出場選手データ!$1:$1048576,3)","v":0},null,null,null,{"$f":"VLOOKUP(C41,出場選手データ!$1:$1048576,4)","v":0},{"$f":"VLOOKUP(C41,出場選手データ!$1:$1048576,5)","v":0},{"$f":"VLOOKUP(C41,出場選手データ!$1:$1048576,6)","v":0}]
[null,null,null,null,null,null,null,{"$f":"VLOOKUP(C41,出場選手データ!$1:$1048576,2)","v":0}]
["90㎏超級","３位",100,null,null,"90㎏超級","３位",{"$f":"VLOOKUP(C43,出場選手データ!$1:$1048576,3)","v":0},null,null,null,{"$f":"VLOOKUP(C43,出場選手データ!$1:$1048576,4)","v":0},{"$f":"VLOOKUP(C43,出場選手データ!$1:$1048576,5)","v":0},{"$f":"VLOOKUP(C43,出場選手データ!$1:$1048576,6)","v":0}]
[null,null,null,null,null,null,null,{"$f":"VLOOKUP(C43,出場選手データ!$1:$1048576,2)","v":0}]
[null,"３位",100,null,null,null,"３位",{"$f":"VLOOKUP(C45,出場選手データ!$1:$1048576,3)","v":0},null,null,null,{"$f":"VLOOKUP(C45,出場選手データ!$1:$1048576,4)","v":0},{"$f":"VLOOKUP(C45,出場選手データ!$1:$1048576,5)","v":0},{"$f":"VLOOKUP(C45,出場選手データ!$1:$1048576,6)","v":0}]
[null,null,null,null,null,null,null,{"$f":"VLOOKUP(C45,出場選手データ!$1:$1048576,2)","v":0}]
[]
[]
[]
[]
[null,null,null,null,null,"※上記の生徒は、本競技大会参加申込に際し、大会要項に記載の内容を確認し、同意を得ています。"]
[]
[null,null,null,null,null,"〈大会負担金〉男子個人",null,null,{"$f":"出場校データ!D2","v":0},null,{"$f":"H6","v":0},null,"中学校（チーム）"]
[null,null,null,null,null,null,null,"男子個人戦だけに出場する選手のみ記入",null,null,"個人出場選手（名）",null,"大会負担金合計"]
[null,null,null,null,null,null,null,null,null,null,{"$f":"出場校データ!D33","v":0},null,{"$f":"K55*2000","v":0}]

{"sheet":"委員長用","index":9,"n_rows":38,"n_cols":29,"rows_kept":38,"cut":false,"hidden":false,"merged":[[36,10,37,10],[36,20,37,20],[2,0,3,0],[28,10,29,10],[28,20,29,20],[30,10,31,10],[30,20,31,20],[32,10,33,10],[32,20,33,20],[22,10,23,10],[22,20,23,20],[24,10,25,10],[24,20,25,20],[26,10,27,10],[2,4,3,4],[3,20,4,20],[5,20,6,20],[7,20,8,20],[9,20,10,20],[2,8,3,8],[34,10,35,10],[26,20,27,20],[11,10,12,10],[20,10,20,13],[15,20,16,20],[17,20,18,20],[13,20,14,20],[11,20,12,20],[34,20,35,20],[11,0,17,0],[13,10,14,10],[15,10,16,10],[17,10,18,10],[9,10,10,10],[3,10,4,10],[4,0,8,0],[5,10,6,10],[7,10,8,10],[2,1,3,1],[2,3,3,3],[2,5,3,5],[2,6,3,6],[2,7,3,7]]}
[null,"メニューへ"]
[]
[null,"学校（チーム）名","監督","順位","氏名","学年","体重","段位","順位",null,"階級","氏名","ふりがな","学校（チーム）名","学年","体重","段位","順位","監督氏名",null,"階級","氏名","ふりがな","学校（チーム）名","学年","体重","段位","順位","監督氏名"]
[null,null,"コーチ",null,null,null,null,null,null,null,"40㎏級",{"$f":"女子個人申込様式!H16","v":0},{"$f":"女子個人申込様式!H15","v":0},{"$f":"IF(L4=0,\"\",(女子個人申込様式!$H$5))","v":""},{"$f":"女子個人申込様式!L15","v":0},{"$f":"女子個人申込様式!M15","v":0},{"$f":"女子個人申込様式!N15","v":0},1,{"$f":"IF(L4=0,\"\",(女子個人申込様式!$G$9))","v":""},null,"50㎏級",{"$f":"男子個人申込様式!H16","v":0},{"$f":"男子個人申込様式!H15","v":0},{"$f":"IF(V4=0,\"\",(男子個人申込様式!$H$5))","v":""},{"$f":"男子個人申込様式!L15","v":0},{"$f":"男子個人申込様式!M15","v":0},{"$f":"男子個人申込様式!N15","v":0},1,{"$f":"IF(V4=0,\"\",(男子個人申込様式!$G$9))","v":""}]
["女子",null,"監督","先鋒",{"$f":"女子団体申込様式!G19","v":0},{"$f":"女子団体申込様式!K18","v":0},{"$f":"女子団体申込様式!L18","v":0},{"$f":"女子団体申込様式!M18","v":0},null,null,null,{"$f":"女子個人申込様式!H18","v":0},{"$f":"女子個人申込様式!H17","v":0},{"$f":"IF(L5=0,\"\",(女子個人申込様式!$H$5))","v":""},{"$f":"女子個人申込様式!L17","v":0},{"$f":"女子個人申込様式!M17","v":0},{"$f":"女子個人申込様式!N17","v":0},2,{"$f":"IF(L5=0,\"\",(女子個人申込様式!$G$9))","v":""},null,null,{"$f":"男子個人申込様式!H18","v":0},{"$f":"男子個人申込様式!H17","v":0},{"$f":"IF(V5=0,\"\",(男子個人申込様式!$H$5))","v":""},{"$f":"男子個人申込様式!L17","v":0},{"$f":"男子個人申込様式!M17","v":0},{"$f":"男子個人申込様式!N17","v":0},2,{"$f":"IF(V5=0,\"\",(男子個人申込様式!$G$9))","v":""}]
[null,null,{"$f":"出場校データ!D19","v":0},"中堅",{"$f":"女子団体申込様式!G21","v":0},{"$f":"女子団体申込様式!K20","v":0},{"$f":"女子団体申込様式!L20","v":0},{"$f":"女子団体申込様式!M20","v":0},null,null,"44㎏級",{"$f":"女子個人申込様式!H20","v":0},{"$f":"女子個人申込様式!H19","v":0},{"$f":"IF(L6=0,\"\",(女子個人申込様式!$H$5))","v":""},{"$f":"女子個人申込様式!L19","v":0},{"$f":"女子個人申込様式!M19","v":0},{"$f":"女子個人申込様式!N19","v":0},1,{"$f":"IF(L6=0,\"\",(女子個人申込様式!$G$9))","v":""},null,"55㎏級",{"$f":"男子個人申込様式!H20","v":0},{"$f":"男子個人申込様式!H19","v":0},{"$f":"IF(V6=0,\"\",(男子個人申込様式!$H$5))","v":""},{"$f":"男子個人申込様式!L19","v":0},{"$f":"男子個人申込様式!M19","v":0},{"$f":"男子個人申込様式!N19","v":0},1,{"$f":"IF(V6=0,\"\",(男子個人申込様式!$G$9))","v":""}]
[null,{"$f":"出場校データ!$D$3","v":0},null,"大将",{"$f":"女子団体申込様式!G23","v":0},{"$f":"女子団体申込様式!K22","v":0},{"$f":"女子団体申込様式!L22","v":0},{"$f":"女子団体申込様式!M22","v":0},{"$f":"出場校データ!D25","v":0},null,null,{"$f":"女子個人申込様式!H22","v":0},{"$f":"女子個人申込様式!H21","v":0},{"$f":"IF(L7=0,\"\",(女子個人申込様式!$H$5))","v":""},{"$f":"女子個人申込様式!L21","v":0},{"$f":"女子個人申込様式!M21","v":0},{"$f":"女子個人申込様式!N21","v":0},2,{"$f":"IF(L7=0,\"\",(女子個人申込様式!$G$9))","v":""},null,null,{"$f":"男子個人申込様式!H22","v":0},{"$f":"男子個人申込様式!H21","v":0},{"$f":"IF(V7=0,\"\",(男子個人申込様式!$H$5))","v":""},{"$f":"男子個人申込様式!L21","v":0},{"$f":"男子個人申込様式!M21","v":0},{"$f":"男子個人申込様式!N21","v":0},2,{"$f":"IF(V7=0,\"\",(男子個人申込様式!$G$9))","v":""}]
[null,null,"コーチ","選手１",{"$f":"女子団体申込様式!G25","v":0},{"$f":"女子団体申込様式!K24","v":0},{"$f":"女子団体申込様式!L24","v":0},{"$f":"女子団体申込様式!M24","v":0},null,null,"48㎏級",{"$f":"女子個人申込様式!H24","v":0},{"$f":"女子個人申込様式!H23","v":0},{"$f":"IF(L8=0,\"\",(女子個人申込様式!$H$5))","v":""},{"$f":"女子個人申込様式!L23","v":0},{"$f":"女子個人申込様式!M23","v":0},{"$f":"女子個人申込様式!N23","v":0},1,{"$f":"IF(L8=0,\"\",(女子個人申込様式!$G$9))","v":""},null,"60㎏級",{"$f":"男子個人申込様式!H24","v":0},{"$f":"男子個人申込様式!H23","v":0},{"$f":"IF(V8=0,\"\",(男子個人申込様式!$H$5))","v":""},{"$f":"男子個人申込様式!L23","v":0},{"$f":"男子個人申込様式!M23","v":0},{"$f":"男子個人申込様式!N23","v":0},1,{"$f":"IF(V8=0,\"\",(男子個人申込様式!$G$9))","v":""}]
[null,null,{"$f":"出場校データ!D23","v":0},"選手２",{"$f":"女子団体申込様式!G27","v":0},{"$f":"女子団体申込様式!K26","v":0},{"$f":"女子団体申込様式!L26","v":0},{"$f":"女子団体申込様式!M26","v":0},null,null,null,{"$f":"女子個人申込様式!H26","v":0},{"$f":"女子個人申込様式!H25","v":0},{"$f":"IF(L9=0,\"\",(女子個人申込様式!$H$5))","v":""},{"$f":"女子個人申込様式!L25","v":0},{"$f":"女子個人申込様式!M25","v":0},{"$f":"女子個人申込様式!N25","v":0},2,{"$f":"IF(L9=0,\"\",(女子個人申込様式!$G$9))","v":""},null,null,{"$f":"男子個人申込様式!H26","v":0},{"$f":"男子個人申込様式!H25","v":0},{"$f":"IF(V9=0,\"\",(男子個人申込様式!$H$5))","v":""},{"$f":"男子個人申込様式!L25","v":0},{"$f":"男子個人申込様式!M25","v":0},{"$f":"男子個人申込様式!N25","v":0},2,{"$f":"IF(V9=0,\"\",(男子個人申込様式!$G$9))","v":""}]
[null,null,null,null,null,null,null,null,null,null,"52㎏級",{"$f":"女子個人申込様式!H28","v":0},{"$f":"女子個人申込様式!H27","v":0},{"$f":"IF(L10=0,\"\",(女子個人申込様式!$H$5))","v":""},{"$f":"女子個人申込様式!L27","v":0},{"$f":"女子個人申込様式!M27","v":0},{"$f":"女子個人申込様式!N27","v":0},1,{"$f":"IF(L10=0,\"\",(女子個人申込様式!$G$9))","v":""},null,"66㎏級",{"$f":"男子個人申込様式!H28","v":0},{"$f":"男子個人申込様式!H27","v":0},{"$f":"IF(V10=0,\"\",(男子個人申込様式!$H$5))","v":""},{"$f":"男子個人申込様式!L27","v":0},{"$f":"男子個人申込様式!M27","v":0},{"$f":"男子個人申込様式!N27","v":0},1,{"$f":"IF(V10=0,\"\",(男子個人申込様式!$G$9))","v":""}]
[null,null,null,null,null,null,null,null,null,null,null,{"$f":"女子個人申込様式!H30","v":0},{"$f":"女子個人申込様式!H29","v":0},{"$f":"IF(L11=0,\"\",(女子個人申込様式!$H$5))","v":""},{"$f":"女子個人申込様式!L29","v":0},{"$f":"女子個人申込様式!M29","v":0},{"$f":"女子個人申込様式!N29","v":0},2,{"$f":"IF(L11=0,\"\",(女子個人申込様式!$G$9))","v":""},null,null,{"$f":"男子個人申込様式!H30","v":0},{"$f":"男子個人申込様式!H29","v":0},{"$f":"IF(V11=0,\"\",(男子個人申込様式!$H$5))","v":""},{"$f":"男子個人申込様式!L29","v":0},{"$f":"男子個人申込様式!M29","v":0},{"$f":"男子個人申込様式!N29","v":0},2,{"$f":"IF(V11=0,\"\",(男子個人申込様式!$G$9))","v":""}]
["男子",null,"監督","先鋒",{"$f":"男子団体申込様式!G19","v":0},{"$f":"男子団体申込様式!K18","v":0},{"$f":"男子団体申込様式!L18","v":0},{"$f":"男子団体申込様式!M18","v":0},null,null,"57㎏級",{"$f":"女子個人申込様式!H32","v":0},{"$f":"女子個人申込様式!H31","v":0},{"$f":"IF(L12=0,\"\",(女子個人申込様式!$H$5))","v":""},{"$f":"女子個人申込様式!L31","v":0},{"$f":"女子個人申込様式!M31","v":0},{"$f":"女子個人申込様式!N31","v":0},1,{"$f":"IF(L12=0,\"\",(女子個人申込様式!$G$9))","v":""},null,"73㎏級",{"$f":"男子個人申込様式!H32","v":0},{"$f":"男子個人申込様式!H31","v":0},{"$f":"IF(V12=0,\"\",(男子個人申込様式!$H$5))","v":""},{"$f":"男子個人申込様式!L31","v":0},{"$f":"男子個人申込様式!M31","v":0},{"$f":"男子個人申込様式!N31","v":0},1,{"$f":"IF(V12=0,\"\",(男子個人申込様式!$G$9))","v":""}]
[null,null,{"$f":"出場校データ!D11","v":0},"次鋒",{"$f":"男子団体申込様式!G21","v":0},{"$f":"男子団体申込様式!K20","v":0},{"$f":"男子団体申込様式!L20","v":0},{"$f":"男子団体申込様式!M20","v":0},null,null,null,{"$f":"女子個人申込様式!H34","v":0},{"$f":"女子個人申込様式!H33","v":0},{"$f":"IF(L13=0,\"\",(女子個人申込様式!$H$5))","v":""},{"$f":"女子個人申込様式!L33","v":0},{"$f":"女子個人申込様式!M33","v":0},{"$f":"女子個人申込様式!N33","v":0},2,{"$f":"IF(L13=0,\"\",(女子個人申込様式!$G$9))","v":""},null,null,{"$f":"男子個人申込様式!H34","v":0},{"$f":"男子個人申込様式!H33","v":0},{"$f":"IF(V13=0,\"\",(男子個人申込様式!$H$5))","v":""},{"$f":"男子個人申込様式!L33","v":0},{"$f":"男子個人申込様式!M33","v":0},{"$f":"男子個人申込様式!N33","v":0},2,{"$f":"IF(V13=0,\"\",(男子個人申込様式!$G$9))","v":""}]
[null,null,null,"中堅",{"$f":"男子団体申込様式!G23","v":0},{"$f":"男子団体申込様式!K22","v":0},{"$f":"男子団体申込様式!L22","v":0},{"$f":"男子団体申込様式!M22","v":0},null,null,"63㎏級",{"$f":"女子個人申込様式!H36","v":0},{"$f":"女子個人申込様式!H35","v":0},{"$f":"IF(L14=0,\"\",(女子個人申込様式!$H$5))","v":""},{"$f":"女子個人申込様式!L35","v":0},{"$f":"女子個人申込様式!M35","v":0},{"$f":"女子個人申込様式!N35","v":0},1,{"$f":"IF(L14=0,\"\",(女子個人申込様式!$G$9))","v":""},null,"81㎏級",{"$f":"男子個人申込様式!H36","v":0},{"$f":"男子個人申込様式!H35","v":0},{"$f":"IF(V14=0,\"\",(男子個人申込様式!$H$5))","v":""},{"$f":"男子個人申込様式!L35","v":0},{"$f":"男子個人申込様式!M35","v":0},{"$f":"男子個人申込様式!N35","v":0},1,{"$f":"IF(V14=0,\"\",(男子個人申込様式!$G$9))","v":""}]
[null,{"$f":"出場校データ!$D$3","v":0},null,"副将",{"$f":"男子団体申込様式!G25","v":0},{"$f":"男子団体申込様式!K24","v":0},{"$f":"男子団体申込様式!L24","v":0},{"$f":"男子団体申込様式!M24","v":0},{"$f":"出場校データ!D17","v":0},null,null,{"$f":"女子個人申込様式!H38","v":0},{"$f":"女子個人申込様式!H37","v":0},{"$f":"IF(L15=0,\"\",(女子個人申込様式!$H$5))","v":""},{"$f":"女子個人申込様式!L37","v":0},{"$f":"女子個人申込様式!M37","v":0},{"$f":"女子個人申込様式!N37","v":0},2,{"$f":"IF(L15=0,\"\",(女子個人申込様式!$G$9))","v":""},null,null,{"$f":"男子個人申込様式!H38","v":0},{"$f":"男子個人申込様式!H37","v":0},{"$f":"IF(V15=0,\"\",(男子個人申込様式!$H$5))","v":""},{"$f":"男子個人申込様式!L37","v":0},{"$f":"男子個人申込様式!M37","v":0},{"$f":"男子個人申込様式!N37","v":0},2,{"$f":"IF(V15=0,\"\",(男子個人申込様式!$G$9))","v":""}]
[null,null,null,"大将",{"$f":"男子団体申込様式!G27","v":0},{"$f":"男子団体申込様式!K26","v":0},{"$f":"男子団体申込様式!L26","v":0},{"$f":"男子団体申込様式!M26","v":0},null,null,"70㎏級",{"$f":"女子個人申込様式!H40","v":0},{"$f":"女子個人申込様式!H39","v":0},{"$f":"IF(L16=0,\"\",(女子個人申込様式!$H$5))","v":""},{"$f":"女子個人申込様式!L39","v":0},{"$f":"女子個人申込様式!M39","v":0},{"$f":"女子個人申込様式!N39","v":0},1,{"$f":"IF(L16=0,\"\",(女子個人申込様式!$G$9))","v":""},null,"90㎏級",{"$f":"男子個人申込様式!H40","v":0},{"$f":"男子個人申込様式!H39","v":0},{"$f":"IF(V16=0,\"\",(男子個人申込様式!$H$5))","v":""},{"$f":"男子個人申込様式!L39","v":0},{"$f":"男子個人申込様式!M39","v":0},{"$f":"男子個人申込様式!N39","v":0},1,{"$f":"IF(V16=0,\"\",(男子個人申込様式!$G$9))","v":""}]
[null,null,"コーチ","選手１",{"$f":"男子団体申込様式!G29","v":0},{"$f":"男子団体申込様式!K28","v":0},{"$f":"男子団体申込様式!L28","v":0},{"$f":"男子団体申込様式!M28","v":0},null,null,null,{"$f":"女子個人申込様式!H42","v":0},{"$f":"女子個人申込様式!H41","v":0},{"$f":"IF(L17=0,\"\",(女子個人申込様式!$H$5))","v":""},{"$f":"女子個人申込様式!L41","v":0},{"$f":"女子個人申込様式!M41","v":0},{"$f":"女子個人申込様式!N41","v":0},2,{"$f":"IF(L17=0,\"\",(女子個人申込様式!$G$9))","v":""},null,null,{"$f":"男子個人申込様式!H42","v":0},{"$f":"男子個人申込様式!H41","v":0},{"$f":"IF(V17=0,\"\",(男子個人申込様式!$H$5))","v":""},{"$f":"男子個人申込様式!L41","v":0},{"$f":"男子個人申込様式!M41","v":0},{"$f":"男子個人申込様式!N41","v":0},2,{"$f":"IF(V17=0,\"\",(男子個人申込様式!$G$9))","v":""}]
[null,null,{"$f":"出場校データ!D15","v":0},"選手２",{"$f":"男子団体申込様式!G31","v":0},{"$f":"男子団体申込様式!K30","v":0},{"$f":"男子団体申込様式!L30","v":0},{"$f":"男子団体申込様式!M30","v":0},null,null,"70㎏超級",{"$f":"女子個人申込様式!H44","v":0},{"$f":"女子個人申込様式!H43","v":0},{"$f":"IF(L18=0,\"\",(女子個人申込様式!$H$5))","v":""},{"$f":"女子個人申込様式!L43","v":0},{"$f":"女子個人申込様式!M43","v":0},{"$f":"女子個人申込様式!N43","v":0},1,{"$f":"IF(L18=0,\"\",(女子個人申込様式!$G$9))","v":""},null,"90㎏超級",{"$f":"男子個人申込様式!H44","v":0},{"$f":"男子個人申込様式!H43","v":0},{"$f":"IF(V18=0,\"\",(男子個人申込様式!$H$5))","v":""},{"$f":"男子個人申込様式!L43","v":0},{"$f":"男子個人申込様式!M43","v":0},{"$f":"男子個人申込様式!N43","v":0},1,{"$f":"IF(V18=0,\"\",(男子個人申込様式!$G$9))","v":""}]
[null,null,null,null,null,null,null,null,null,null,null,{"$f":"女子個人申込様式!H46","v":0},{"$f":"女子個人申込様式!H45","v":0},{"$f":"IF(L19=0,\"\",(女子個人申込様式!$H$5))","v":""},{"$f":"女子個人申込様式!L45","v":0},{"$f":"女子個人申込様式!M45","v":0},{"$f":"女子個人申込様式!N45","v":0},2,{"$f":"IF(L19=0,\"\",(女子個人申込様式!$G$9))","v":""},null,null,{"$f":"男子個人申込様式!H46","v":0},{"$f":"男子個人申込様式!H45","v":0},{"$f":"IF(V19=0,\"\",(男子個人申込様式!$H$5))","v":""},{"$f":"男子個人申込様式!L45","v":0},{"$f":"男子個人申込様式!M45","v":0},{"$f":"男子個人申込様式!N45","v":0},2,{"$f":"IF(V19=0,\"\",(男子個人申込様式!$G$9))","v":""}]
[]
[null,null,null,null,null,null,null,null,null,null,"開催県用"]
[null,null,null,null,null,null,null,null,null,null,"階級","氏名","ふりがな","学校（チーム）名","学年","体重","段位","順位","監督氏名",null,"階級","氏名","ふりがな","学校（チーム）名","学年","体重","段位","順位","監督氏名"]
[null,null,null,null,null,null,null,null,null,null,"40㎏級",{"$f":"'開催県女子個人申込様式 '!H16","v":0},{"$f":"'開催県女子個人申込様式 '!H15","v":0},{"$f":"IF(L23=0,\"\",('開催県女子個人申込様式 '!$H$5))","v":""},{"$f":"'開催県女子個人申込様式 '!L15","v":0},{"$f":"'開催県女子個人申込様式 '!M15","v":0},{"$f":"'開催県女子個人申込様式 '!N15","v":0},3,{"$f":"IF(Q23=0,\"\",('開催県女子個人申込様式 '!$G$9))","v":""},null,"50㎏級",{"$f":"'開催県男子個人申込様式 '!H16","v":0},{"$f":"'開催県男子個人申込様式 '!H15","v":0},{"$f":"IF(V23=0,\"\",('開催県男子個人申込様式 '!$H$5))","v":""},{"$f":"'開催県男子個人申込様式 '!L15","v":0},{"$f":"'開催県男子個人申込様式 '!M15","v":0},{"$f":"'開催県男子個人申込様式 '!N15","v":0},3,{"$f":"IF(AA23=0,\"\",('開催県男子個人申込様式 '!$G$9))","v":""}]
[null,null,null,null,null,null,null,null,null,null,null,{"$f":"'開催県女子個人申込様式 '!H18","v":0},{"$f":"'開催県女子個人申込様式 '!H17","v":0},{"$f":"IF(L24=0,\"\",('開催県女子個人申込様式 '!$H$5))","v":""},{"$f":"'開催県女子個人申込様式 '!L17","v":0},{"$f":"'開催県女子個人申込様式 '!M17","v":0},{"$f":"'開催県女子個人申込様式 '!N17","v":0},3,{"$f":"IF(Q24=0,\"\",('開催県女子個人申込様式 '!$G$9))","v":""},null,null,{"$f":"'開催県男子個人申込様式 '!H18","v":0},{"$f":"'開催県男子個人申込様式 '!H17","v":0},{"$f":"IF(V24=0,\"\",('開催県男子個人申込様式 '!$H$5))","v":""},{"$f":"'開催県男子個人申込様式 '!L17","v":0},{"$f":"'開催県男子個人申込様式 '!M17","v":0},{"$f":"'開催県男子個人申込様式 '!N17","v":0},3,{"$f":"IF(AA24=0,\"\",('開催県男子個人申込様式 '!$G$9))","v":""}]
[null,null,null,null,null,null,null,null,null,null,"44㎏級",{"$f":"'開催県女子個人申込様式 '!H20","v":0},{"$f":"'開催県女子個人申込様式 '!H19","v":0},{"$f":"IF(L25=0,\"\",('開催県女子個人申込様式 '!$H$5))","v":""},{"$f":"'開催県女子個人申込様式 '!L19","v":0},{"$f":"'開催県女子個人申込様式 '!M19","v":0},{"$f":"'開催県女子個人申込様式 '!N19","v":0},3,{"$f":"IF(Q25=0,\"\",('開催県女子個人申込様式 '!$G$9))","v":""},null,"55㎏級",{"$f":"'開催県男子個人申込様式 '!H20","v":0},{"$f":"'開催県男子個人申込様式 '!H19","v":0},{"$f":"IF(V25=0,\"\",('開催県男子個人申込様式 '!$H$5))","v":""},{"$f":"'開催県男子個人申込様式 '!L19","v":0},{"$f":"'開催県男子個人申込様式 '!M19","v":0},{"$f":"'開催県男子個人申込様式 '!N19","v":0},3,{"$f":"IF(AA25=0,\"\",('開催県男子個人申込様式 '!$G$9))","v":""}]
[null,null,null,null,null,null,null,null,null,null,null,{"$f":"'開催県女子個人申込様式 '!H22","v":0},{"$f":"'開催県女子個人申込様式 '!H21","v":0},{"$f":"IF(L26=0,\"\",('開催県女子個人申込様式 '!$H$5))","v":""},{"$f":"'開催県女子個人申込様式 '!L21","v":0},{"$f":"'開催県女子個人申込様式 '!M21","v":0},{"$f":"'開催県女子個人申込様式 '!N21","v":0},3,{"$f":"IF(Q26=0,\"\",('開催県女子個人申込様式 '!$G$9))","v":""},null,null,{"$f":"'開催県男子個人申込様式 '!H22","v":0},{"$f":"'開催県男子個人申込様式 '!H21","v":0},{"$f":"IF(V26=0,\"\",('開催県男子個人申込様式 '!$H$5))","v":""},{"$f":"'開催県男子個人申込様式 '!L21","v":0},{"$f":"'開催県男子個人申込様式 '!M21","v":0},{"$f":"'開催県男子個人申込様式 '!N21","v":0},3,{"$f":"IF(AA26=0,\"\",('開催県男子個人申込様式 '!$G$9))","v":""}]
[null,null,null,null,null,null,null,null,null,null,"48㎏級",{"$f":"'開催県女子個人申込様式 '!H24","v":0},{"$f":"'開催県女子個人申込様式 '!H23","v":0},{"$f":"IF(L27=0,\"\",('開催県女子個人申込様式 '!$H$5))","v":""},{"$f":"'開催県女子個人申込様式 '!L23","v":0},{"$f":"'開催県女子個人申込様式 '!M23","v":0},{"$f":"'開催県女子個人申込様式 '!N23","v":0},3,{"$f":"IF(Q27=0,\"\",('開催県女子個人申込様式 '!$G$9))","v":""},null,"60㎏級",{"$f":"'開催県男子個人申込様式 '!H24","v":0},{"$f":"'開催県男子個人申込様式 '!H23","v":0},{"$f":"IF(V27=0,\"\",('開催県男子個人申込様式 '!$H$5))","v":""},{"$f":"'開催県男子個人申込様式 '!L23","v":0},{"$f":"'開催県男子個人申込様式 '!M23","v":0},{"$f":"'開催県男子個人申込様式 '!N23","v":0},3,{"$f":"IF(AA27=0,\"\",('開催県男子個人申込様式 '!$G$9))","v":""}]
[null,null,null,null,null,null,null,null,null,null,null,{"$f":"'開催県女子個人申込様式 '!H26","v":0},{"$f":"'開催県女子個人申込様式 '!H25","v":0},{"$f":"IF(L28=0,\"\",('開催県女子個人申込様式 '!$H$5))","v":""},{"$f":"'開催県女子個人申込様式 '!L25","v":0},{"$f":"'開催県女子個人申込様式 '!M25","v":0},{"$f":"'開催県女子個人申込様式 '!N25","v":0},3,{"$f":"IF(Q28=0,\"\",('開催県女子個人申込様式 '!$G$9))","v":""},null,null,{"$f":"'開催県男子個人申込様式 '!H26","v":0},{"$f":"'開催県男子個人申込様式 '!H25","v":0},{"$f":"IF(V28=0,\"\",('開催県男子個人申込様式 '!$H$5))","v":""},{"$f":"'開催県男子個人申込様式 '!L25","v":0},{"$f":"'開催県男子個人申込様式 '!M25","v":0},{"$f":"'開催県男子個人申込様式 '!N25","v":0},3,{"$f":"IF(AA28=0,\"\",('開催県男子個人申込様式 '!$G$9))","v":""}]
[null,null,null,null,null,null,null,null,null,null,"52㎏級",{"$f":"'開催県女子個人申込様式 '!H28","v":0},{"$f":"'開催県女子個人申込様式 '!H27","v":0},{"$f":"IF(L29=0,\"\",('開催県女子個人申込様式 '!$H$5))","v":""},{"$f":"'開催県女子個人申込様式 '!L27","v":0},{"$f":"'開催県女子個人申込様式 '!M27","v":0},{"$f":"'開催県女子個人申込様式 '!N27","v":0},3,{"$f":"IF(Q29=0,\"\",('開催県女子個人申込様式 '!$G$9))","v":""},null,"66㎏級",{"$f":"'開催県男子個人申込様式 '!H28","v":0},{"$f":"'開催県男子個人申込様式 '!H27","v":0},{"$f":"IF(V29=0,\"\",('開催県男子個人申込様式 '!$H$5))","v":""},{"$f":"'開催県男子個人申込様式 '!L27","v":0},{"$f":"'開催県男子個人申込様式 '!M27","v":0},{"$f":"'開催県男子個人申込様式 '!N27","v":0},3,{"$f":"IF(AA29=0,\"\",('開催県男子個人申込様式 '!$G$9))","v":""}]
[null,null,null,null,null,null,null,null,null,null,null,{"$f":"'開催県女子個人申込様式 '!H30","v":0},{"$f":"'開催県女子個人申込様式 '!H29","v":0},{"$f":"IF(L30=0,\"\",('開催県女子個人申込様式 '!$H$5))","v":""},{"$f":"'開催県女子個人申込様式 '!L29","v":0},{"$f":"'開催県女子個人申込様式 '!M29","v":0},{"$f":"'開催県女子個人申込様式 '!N29","v":0},3,{"$f":"IF(Q30=0,\"\",('開催県女子個人申込様式 '!$G$9))","v":""},null,null,{"$f":"'開催県男子個人申込様式 '!H30","v":0},{"$f":"'開催県男子個人申込様式 '!H29","v":0},{"$f":"IF(V30=0,\"\",('開催県男子個人申込様式 '!$H$5))","v":""},{"$f":"'開催県男子個人申込様式 '!L29","v":0},{"$f":"'開催県男子個人申込様式 '!M29","v":0},{"$f":"'開催県男子個人申込様式 '!N29","v":0},3,{"$f":"IF(AA30=0,\"\",('開催県男子個人申込様式 '!$G$9))","v":""}]
[null,null,null,null,null,null,null,null,null,null,"57㎏級",{"$f":"'開催県女子個人申込様式 '!H32","v":0},{"$f":"'開催県女子個人申込様式 '!H31","v":0},{"$f":"IF(L31=0,\"\",('開催県女子個人申込様式 '!$H$5))","v":""},{"$f":"'開催県女子個人申込様式 '!L31","v":0},{"$f":"'開催県女子個人申込様式 '!M31","v":0},{"$f":"'開催県女子個人申込様式 '!N31","v":0},3,{"$f":"IF(Q31=0,\"\",('開催県女子個人申込様式 '!$G$9))","v":""},null,"73㎏級",{"$f":"'開催県男子個人申込様式 '!H32","v":0},{"$f":"'開催県男子個人申込様式 '!H31","v":0},{"$f":"IF(V31=0,\"\",('開催県男子個人申込様式 '!$H$5))","v":""},{"$f":"'開催県男子個人申込様式 '!L31","v":0},{"$f":"'開催県男子個人申込様式 '!M31","v":0},{"$f":"'開催県男子個人申込様式 '!N31","v":0},3,{"$f":"IF(AA31=0,\"\",('開催県男子個人申込様式 '!$G$9))","v":""}]
[null,null,null,null,null,null,null,null,null,null,null,{"$f":"'開催県女子個人申込様式 '!H34","v":0},{"$f":"'開催県女子個人申込様式 '!H33","v":0},{"$f":"IF(L32=0,\"\",('開催県女子個人申込様式 '!$H$5))","v":""},{"$f":"'開催県女子個人申込様式 '!L33","v":0},{"$f":"'開催県女子個人申込様式 '!M33","v":0},{"$f":"'開催県女子個人申込様式 '!N33","v":0},3,{"$f":"IF(Q32=0,\"\",('開催県女子個人申込様式 '!$G$9))","v":""},null,null,{"$f":"'開催県男子個人申込様式 '!H34","v":0},{"$f":"'開催県男子個人申込様式 '!H33","v":0},{"$f":"IF(V32=0,\"\",('開催県男子個人申込様式 '!$H$5))","v":""},{"$f":"'開催県男子個人申込様式 '!L33","v":0},{"$f":"'開催県男子個人申込様式 '!M33","v":0},{"$f":"'開催県男子個人申込様式 '!N33","v":0},3,{"$f":"IF(AA32=0,\"\",('開催県男子個人申込様式 '!$G$9))","v":""}]
[null,null,null,null,null,null,null,null,null,null,"63㎏級",{"$f":"'開催県女子個人申込様式 '!H36","v":0},{"$f":"'開催県女子個人申込様式 '!H35","v":0},{"$f":"IF(L33=0,\"\",('開催県女子個人申込様式 '!$H$5))","v":""},{"$f":"'開催県女子個人申込様式 '!L35","v":0},{"$f":"'開催県女子個人申込様式 '!M35","v":0},{"$f":"'開催県女子個人申込様式 '!N35","v":0},3,{"$f":"IF(Q33=0,\"\",('開催県女子個人申込様式 '!$G$9))","v":""},null,"81㎏級",{"$f":"'開催県男子個人申込様式 '!H36","v":0},{"$f":"'開催県男子個人申込様式 '!H35","v":0},{"$f":"IF(V33=0,\"\",('開催県男子個人申込様式 '!$H$5))","v":""},{"$f":"'開催県男子個人申込様式 '!L35","v":0},{"$f":"'開催県男子個人申込様式 '!M35","v":0},{"$f":"'開催県男子個人申込様式 '!N35","v":0},3,{"$f":"IF(AA33=0,\"\",('開催県男子個人申込様式 '!$G$9))","v":""}]
[null,null,null,null,null,null,null,null,null,null,null,{"$f":"'開催県女子個人申込様式 '!H38","v":0},{"$f":"'開催県女子個人申込様式 '!H37","v":0},{"$f":"IF(L34=0,\"\",('開催県女子個人申込様式 '!$H$5))","v":""},{"$f":"'開催県女子個人申込様式 '!L37","v":0},{"$f":"'開催県女子個人申込様式 '!M37","v":0},{"$f":"'開催県女子個人申込様式 '!N37","v":0},3,{"$f":"IF(Q34=0,\"\",('開催県女子個人申込様式 '!$G$9))","v":""},null,null,{"$f":"'開催県男子個人申込様式 '!H38","v":0},{"$f":"'開催県男子個人申込様式 '!H37","v":0},{"$f":"IF(V34=0,\"\",('開催県男子個人申込様式 '!$H$5))","v":""},{"$f":"'開催県男子個人申込様式 '!L37","v":0},{"$f":"'開催県男子個人申込様式 '!M37","v":0},{"$f":"'開催県男子個人申込様式 '!N37","v":0},3,{"$f":"IF(AA34=0,\"\",('開催県男子個人申込様式 '!$G$9))","v":""}]
[null,null,null,null,null,null,null,null,null,null,"70㎏級",{"$f":"'開催県女子個人申込様式 '!H40","v":0},{"$f":"'開催県女子個人申込様式 '!H39","v":0},{"$f":"IF(L35=0,\"\",('開催県女子個人申込様式 '!$H$5))","v":""},{"$f":"'開催県女子個人申込様式 '!L39","v":0},{"$f":"'開催県女子個人申込様式 '!M39","v":0},{"$f":"'開催県女子個人申込様式 '!N39","v":0},3,{"$f":"IF(Q35=0,\"\",('開催県女子個人申込様式 '!$G$9))","v":""},null,"90㎏級",{"$f":"'開催県男子個人申込様式 '!H40","v":0},{"$f":"'開催県男子個人申込様式 '!H39","v":0},{"$f":"IF(V35=0,\"\",('開催県男子個人申込様式 '!$H$5))","v":""},{"$f":"'開催県男子個人申込様式 '!L39","v":0},{"$f":"'開催県男子個人申込様式 '!M39","v":0},{"$f":"'開催県男子個人申込様式 '!N39","v":0},3,{"$f":"IF(AA35=0,\"\",('開催県男子個人申込様式 '!$G$9))","v":""}]
[null,null,null,null,null,null,null,null,null,null,null,{"$f":"'開催県女子個人申込様式 '!H42","v":0},{"$f":"'開催県女子個人申込様式 '!H41","v":0},{"$f":"IF(L36=0,\"\",('開催県女子個人申込様式 '!$H$5))","v":""},{"$f":"'開催県女子個人申込様式 '!L41","v":0},{"$f":"'開催県女子個人申込様式 '!M41","v":0},{"$f":"'開催県女子個人申込様式 '!N41","v":0},3,{"$f":"IF(Q36=0,\"\",('開催県女子個人申込様式 '!$G$9))","v":""},null,null,{"$f":"'開催県男子個人申込様式 '!H42","v":0},{"$f":"'開催県男子個人申込様式 '!H41","v":0},{"$f":"IF(V36=0,\"\",('開催県男子個人申込様式 '!$H$5))","v":""},{"$f":"'開催県男子個人申込様式 '!L41","v":0},{"$f":"'開催県男子個人申込様式 '!M41","v":0},{"$f":"'開催県男子個人申込様式 '!N41","v":0},3,{"$f":"IF(AA36=0,\"\",('開催県男子個人申込様式 '!$G$9))","v":""}]
[null,null,null,null,null,null,null,null,null,null,"70㎏超級",{"$f":"'開催県女子個人申込様式 '!H44","v":0},{"$f":"'開催県女子個人申込様式 '!H43","v":0},{"$f":"IF(L37=0,\"\",('開催県女子個人申込様式 '!$H$5))","v":""},{"$f":"'開催県女子個人申込様式 '!L43","v":0},{"$f":"'開催県女子個人申込様式 '!M43","v":0},{"$f":"'開催県女子個人申込様式 '!N43","v":0},3,{"$f":"IF(Q37=0,\"\",('開催県女子個人申込様式 '!$G$9))","v":""},null,"90㎏超級",{"$f":"'開催県男子個人申込様式 '!H44","v":0},{"$f":"'開催県男子個人申込様式 '!H43","v":0},{"$f":"IF(V37=0,\"\",('開催県男子個人申込様式 '!$H$5))","v":""},{"$f":"'開催県男子個人申込様式 '!L43","v":0},{"$f":"'開催県男子個人申込様式 '!M43","v":0},{"$f":"'開催県男子個人申込様式 '!N43","v":0},3,{"$f":"IF(AA37=0,\"\",('開催県男子個人申込様式 '!$G$9))","v":""}]
[null,null,null,null,null,null,null,null,null,null,null,{"$f":"'開催県女子個人申込様式 '!H46","v":0},{"$f":"'開催県女子個人申込様式 '!H45","v":0},{"$f":"IF(L38=0,\"\",('開催県女子個人申込様式 '!$H$5))","v":""},{"$f":"'開催県女子個人申込様式 '!L45","v":0},{"$f":"'開催県女子個人申込様式 '!M45","v":0},{"$f":"'開催県女子個人申込様式 '!N45","v":0},3,{"$f":"IF(Q38=0,\"\",('開催県女子個人申込様式 '!$G$9))","v":""},null,null,{"$f":"'開催県男子個人申込様式 '!H46","v":0},{"$f":"'開催県男子個人申込様式 '!H45","v":0},{"$f":"IF(V38=0,\"\",('開催県男子個人申込様式 '!$H$5))","v":""},{"$f":"'開催県男子個人申込様式 '!L45","v":0},{"$f":"'開催県男子個人申込様式 '!M45","v":0},{"$f":"'開催県男子個人申込様式 '!N45","v":0},3,{"$f":"IF(AA38=0,\"\",('開催県男子個人申込様式 '!$G$9))","v":""}]